BEGIN:VCALENDAR
VERSION:2.0
PRODID:-//ChamberMaster//Event Calendar 2.0//EN
METHOD:PUBLISH
X-PUBLISHED-TTL:P3D
REFRESH-INTERVAL:P3D
CALSCALE:GREGORIAN
BEGIN:VEVENT
DTSTART:20120721T190000Z
DTEND:20120722T030000Z
X-MICROSOFT-CDO-ALLDAYEVENT:FALSE
SUMMARY:Southside CityFest
DESCRIPTION:Food vendors\, arts and craft vendors\, rides for the kids\, antique car show\, and entertainment starting at 2 PM and going till 10 PM.
X-ALT-DESC;FMTTYPE=text/html:Food vendors\, arts and craft vendors\, rides for the kids\, antique car show\, and entertainment starting at 2 PM and going till 10 PM.
LOCATION:Southside High School School Drive
UID:e.1432.381165
SEQUENCE:3
DTSTAMP:20260422T204411Z
URL:http://business.etowahchamber.org/events/details/southside-cityfest-07-21-2012-381165
END:VEVENT

END:VCALENDAR
