BEGIN:VCALENDAR
VERSION:2.0
PRODID:-//ChamberMaster//Event Calendar 2.0//EN
METHOD:PUBLISH
X-PUBLISHED-TTL:P3D
REFRESH-INTERVAL:P3D
CALSCALE:GREGORIAN
BEGIN:VEVENT
DTSTART:20130801T150000Z
DTEND:20130801T230000Z
X-MICROSOFT-CDO-ALLDAYEVENT:FALSE
SUMMARY:Southside Family Pharmacy Open House
DESCRIPTION:Southside Family Pharmacy Open House \n\n	Thursday\, August 1\, 10:00-6:00\n\n	\n\n	Come by and meet the owners/Pharmacist\, Tracy & Sara Boggs and visit our newly remodeled medical equipment showroom.\n\n	\n\n	We will be discussing our new prescription drug programs offering huge cost savings for our customers\, diabetes education classes\, and new concepts with home medical equipment. Everything you need\, under one roof at Southside Family Pharmacy.\n\n	\n\n	Use a Wheelchair? Bring it by for a free service & cleaning during our open house.\n\n	\n\n	The Glass House Gift Shop & US Post Office will be open inside our store. Refreshments\, door prizes & giveaways!\n\n	\n\n	We are located 1/4 mile just across the Southside Bridge. Look for our sign on your right hand side.
X-ALT-DESC;FMTTYPE=text/html:<p>\n	<span style="font-family: tahoma"><strong><span style="color: #000080"><span style="font-size: 16px">Southside Family Pharmacy Open House </span></span><br />\n	Thursday\, August 1\, 10:00-6:00<br />\n	<br />\n	Come by and&nbsp\;meet the owners/Pharmacist\,&nbsp\;Tracy &amp\; Sara Boggs and visit our newly remodeled medical equipment showroom.<br />\n	<br />\n	We will be&nbsp\;discussing our&nbsp\;new prescription drug programs offering huge cost savings for our customers\, diabetes education classes\, and new concepts with home medical equipment. Everything you need\, under one roof at Southside Family Pharmacy.<br />\n	<br />\n	Use a Wheelchair? Bring it by for a free service &amp\; cleaning during our open house.<br />\n	<br />\n	The Glass House Gift Shop &amp\; US Post Office will be open inside our store. Refreshments\, door prizes &amp\; giveaways!<br />\n	<br />\n	We are located 1/4 mile just across the Southside Bridge. Look for our sign on your right hand side.</strong></span></p>\n
LOCATION:Southside Family Pharmacy/The Glass House We are located 1/4 mile just across the Southside Bridge. Look for our sign on your right hand side.
UID:e.1432.383347
SEQUENCE:3
DTSTAMP:20260423T075413Z
URL:http://business.etowahchamber.org/events/details/southside-family-pharmacy-open-house-08-01-2013-383347
END:VEVENT

END:VCALENDAR
