BEGIN:VCALENDAR
VERSION:2.0
PRODID:-//ChamberMaster//Event Calendar 2.0//EN
METHOD:PUBLISH
X-PUBLISHED-TTL:P3D
REFRESH-INTERVAL:P3D
CALSCALE:GREGORIAN
BEGIN:VEVENT
DTSTART:20181003T123000Z
DTEND:20181003T133000Z
X-MICROSOFT-CDO-ALLDAYEVENT:FALSE
SUMMARY:Special Called Board Meeting
DESCRIPTION:Friends\,\n\n\n\nWe were unable to achieve a quorum this morning at our regular board meeting\, and we have some critical business that we need to address as soon as possible. \n\n\n\nWe will quickly review and vote on minutes and financials from last month\, but will devote the bulk of the meeting to the consideration of contracting Funding Solutions for a strategic planning and discovery contract. Tom Mucks of Funding Solutions intends to attend this meeting\, providing we can feel good that we will have a quorum. \n\n\n\nWe need 10 voting members to achieve a quorum\, so please respond as soon as you reasonably can with your intent to attend or a decline to the meeting for Wednesday\, October 3 at 7:30 am.
X-ALT-DESC;FMTTYPE=text/html:Friends\,<br />\n<br />\nWe were unable to achieve a quorum this morning at our regular board meeting\, and we have some critical business that we need to address as soon as possible.&nbsp\;<br />\n<br />\nWe will quickly review and vote on minutes and financials from last month\, but will devote the bulk of the meeting to the consideration of contracting Funding Solutions for a strategic planning and discovery contract. Tom Mucks of Funding Solutions intends to attend this meeting\, providing we can feel good that we will have a quorum.&nbsp\;<br />\n<br />\nWe need 10 voting members to achieve a quorum\, so please respond as soon as you reasonably can with your intent to attend or a decline to the meeting for Wednesday\, October 3 at 7:30 am.&nbsp\;
LOCATION:Chamber Board Room One Commerce Square Gadsden\, AL 35901
UID:e.1432.398181
SEQUENCE:3
DTSTAMP:20260422T192256Z
URL:http://business.etowahchamber.org/events/details/special-called-board-meeting-398181
END:VEVENT

END:VCALENDAR
