BEGIN:VCALENDAR
VERSION:2.0
PRODID:-//ChamberMaster//Event Calendar 2.0//EN
METHOD:PUBLISH
X-PUBLISHED-TTL:P3D
REFRESH-INTERVAL:P3D
CALSCALE:GREGORIAN
BEGIN:VEVENT
DTSTART:20120828T230000Z
DTEND:20120829T030000Z
X-MICROSOFT-CDO-ALLDAYEVENT:FALSE
SUMMARY:Spirit of Citzenship Award for Etowah County Banquet & Roast honoring Fred Sington
DESCRIPTION:Please join the Family Success Center as they honor\n\nFRED SINGTON\n\nas the 2012 recipient of the\n\nSpirit of Citizenship Award for Etowah County\n\n\n\nBanquet and Roast\n\nTuesday\, August 28\, 2012\n\n6 p.m.\n\nSenior Activity Center\n\n623 Broad Street\n\nGadsden\, AL\n\n\n\nDinner by Morgan House Catering\n\nTickets are $25 each and can be purchased at the\n\nFamily Success Center\, a United Way Agency\n\n821 East Broad Street\n\n\n\nPhone Marie Johnson at 256-547-6888 extension 111 for reservations.\n\nTables of 8 may be reserved.
X-ALT-DESC;FMTTYPE=text/html:Please join the Family Success Center as they honor<br />\n<span style="font-size: 22px"><span style="color: #000080"><strong>FRED SINGTON</strong></span></span><br />\nas the 2012 recipient of the<br />\n<span style="font-size: 16px"><strong><span style="color: #ff0000">Spirit of Citizenship Award for Etowah County</span></strong></span><br />\n<br />\nBanquet and Roast<br />\nTuesday\, August 28\, 2012<br />\n6 p.m.<br />\nSenior Activity Center<br />\n623 Broad Street<br />\nGadsden\, AL<br />\n<br />\nDinner by Morgan House Catering<br />\nTickets are $25 each and can be purchased at the<br />\nFamily Success Center\, a United Way Agency<br />\n821 East Broad Street<br />\n<br />\nPhone Marie Johnson at 256-547-6888 extension 111 for reservations.<br />\nTables of 8 may be reserved.
LOCATION:Senior Activity Center 623 Broad Street Gadsden\, AL
UID:e.1432.381888
SEQUENCE:3
DTSTAMP:20260422T220210Z
URL:http://business.etowahchamber.org/events/details/spirit-of-citzenship-award-for-etowah-county-banquet-roast-honoring-fred-sington-08-28-2012-381888
END:VEVENT

END:VCALENDAR
