BEGIN:VCALENDAR
VERSION:2.0
PRODID:-//ChamberMaster//Event Calendar 2.0//EN
METHOD:PUBLISH
X-PUBLISHED-TTL:P3D
REFRESH-INTERVAL:P3D
CALSCALE:GREGORIAN
BEGIN:VEVENT
DTSTART:20140416T140000Z
DTEND:20140416T163000Z
X-MICROSOFT-CDO-ALLDAYEVENT:FALSE
SUMMARY:Spring Employment Fair
DESCRIPTION:Spring 2014 Employment Fair April 16\, 2014 9:00 a.m. 11:30 a.m. East Broad Campus East Broad Administration Building-Auditorium
X-ALT-DESC;FMTTYPE=text/html:Spring 2014 Employment Fair April 16\, 2014 9:00 a.m. 11:30 a.m. East Broad Campus East Broad Administration Building-Auditorium
LOCATION:East Broad Administration Building-Auditorium
UID:e.1432.384406
SEQUENCE:3
DTSTAMP:20260422T210838Z
URL:http://business.etowahchamber.org/events/details/spring-employment-fair-04-16-2014-384406
END:VEVENT

END:VCALENDAR
