BEGIN:VCALENDAR
VERSION:2.0
PRODID:-//ChamberMaster//Event Calendar 2.0//EN
METHOD:PUBLISH
X-PUBLISHED-TTL:P3D
REFRESH-INTERVAL:P3D
CALSCALE:GREGORIAN
BEGIN:VEVENT
DTSTART:20130912T161500Z
DTEND:20130912T173000Z
X-MICROSOFT-CDO-ALLDAYEVENT:FALSE
SUMMARY:Steam Engine Locomotive 630 to City of Attalla
DESCRIPTION:Attalla is partnering with Norfolk Southern's 21st Century Steam Program and the Tennessee Valley Railroad Museum to offer two steam rail excursions to Birmingham and Chattanooga\, Tenn.\, according to Lisa Turner\, director of the city's Information and Development Center.\n	\n		\n			\n				Turner said previous rail excursions with the museum were very popular and sold out quickly.\n			\n				The Birmingham excursion will be Sept. 12 and is a one-way trip with return to Attalla by charter bus.\n			\n				The second trip is a one-way trip on Nov. 9 to or from Chattanooga\, with a chartered bus to Chattanooga or back to Attalla.\n			\n				Both excursions will use Steam Engine Locomotive 630.\n			\n				For the Attalla-to-Birmingham excursion\, the train is scheduled to arrive in Attalla about 11:15 a.m.\n			\n				Passengers will board at the vacant lot beside the underpass at the corner of Fifth Avenue NW and Third Street NW at 12:15 p.m.\, with the train leaving at 12:30 p.m.\n			\n				Tickets are $65 each for standard coach seating and return charter bus service.\n			\n				The train will consist of standard coach cars with air conditioning and large picture windows for viewing the scenery\, and a commissary car selling light food items and souvenirs.\n			\n				The train will travel over Norfolk Southern's Alabama Division main line\, which began as the Alabama Great Southern Railway.\n			\n				Passengers will unload at the former site of the Old Southern Terminal Station in downtown Birmingham.\n			\n				This route has not carried passengers since a Heart of Dixie Railroad Museum excursion\, using a chartered Amtrak train\, traveled the line in 1999.\n			\n				Arrival in Birmingham is expected about 2:45 p.m.\, and the return to Attalla will be about 6 p.m. after a stop for dinner.
X-ALT-DESC;FMTTYPE=text/html:<div style="color: gray\;">\n	<p>\n		Attalla is partnering with Norfolk Southern&rsquo\;s 21st Century Steam Program and the Tennessee Valley Railroad Museum to offer two steam rail excursions to Birmingham and Chattanooga\, Tenn.\, according to Lisa Turner\, director of the city&rsquo\;s Information and Development Center.</p>\n	<div class="pagholder">\n		<div class="article_text article_paragraph1">\n			<p class="pagpag1" style="display: block\;">\n				Turner said previous rail excursions with the museum were very popular and sold out quickly.</p>\n			<p class="pagpag1" style="display: block\;">\n				The Birmingham excursion will be Sept. 12 and is a one-way trip with return to Attalla by charter bus.</p>\n			<p class="pagpag1" style="display: block\;">\n				The second trip is a one-way trip on Nov. 9 to or from Chattanooga\, with a chartered bus to Chattanooga or back to Attalla.</p>\n			<p class="pagpag1" style="display: block\;">\n				Both excursions will use Steam Engine Locomotive 630.</p>\n			<p class="pagpag1" style="display: block\;">\n				For the Attalla-to-Birmingham excursion\, the train is scheduled to arrive in Attalla about 11:15 a.m.</p>\n			<p class="pagpag1" style="display: block\;">\n				Passengers will board at the vacant lot beside the underpass at the corner of Fifth Avenue NW and Third Street NW at 12:15 p.m.\, with the train leaving at 12:30 p.m.</p>\n			<p class="pagpag1" style="display: block\;">\n				Tickets are $65 each for standard coach seating and return charter bus service.</p>\n			<p class="pagpag1" style="display: block\;">\n				The train will consist of standard coach cars with air conditioning and large picture windows for viewing the scenery\, and a commissary car selling light food items and souvenirs.</p>\n			<p class="pagpag1" style="display: block\;">\n				The train will travel over Norfolk Southern&rsquo\;s Alabama Division main line\, which began as the Alabama Great Southern Railway.</p>\n			<p class="pagpag1" style="display: block\;">\n				Passengers will unload at the former site of the Old Southern Terminal Station in downtown Birmingham.</p>\n			<p class="pagpag1" style="display: block\;">\n				This route has not carried passengers since a Heart of Dixie Railroad Museum excursion\, using a chartered Amtrak train\, traveled the line in 1999.</p>\n			<p class="pagpag1" style="display: block\;">\n				Arrival in Birmingham is expected about 2:45 p.m.\, and the return to Attalla will be about 6 p.m. after a stop for dinner.</p>\n		</div>\n	</div>\n</div>\n
LOCATION:Corner of Fifth Avenue NW and Third Street NW at 12:15pm.
UID:e.1432.384077
SEQUENCE:3
DTSTAMP:20260423T075731Z
URL:http://business.etowahchamber.org/events/details/steam-engine-locomotive-630-to-city-of-attalla-09-12-2013-384077
END:VEVENT

END:VCALENDAR
