BEGIN:VCALENDAR
VERSION:2.0
PRODID:-//ChamberMaster//Event Calendar 2.0//EN
METHOD:PUBLISH
X-PUBLISHED-TTL:P3D
REFRESH-INTERVAL:P3D
CALSCALE:GREGORIAN
BEGIN:VEVENT
DTSTART:20140802T020000Z
DTEND:20140802T040000Z
X-MICROSOFT-CDO-ALLDAYEVENT:FALSE
SUMMARY:Summer Concert Series@ Amphitheater
DESCRIPTION:
X-ALT-DESC;FMTTYPE=text/html:
LOCATION:
UID:e.1432.384320
SEQUENCE:3
DTSTAMP:20260422T160312Z
URL:http://business.etowahchamber.org/events/details/summer-concert-series-amphitheater-08-01-2014-384320
END:VEVENT

END:VCALENDAR
