BEGIN:VCALENDAR
VERSION:2.0
PRODID:-//ChamberMaster//Event Calendar 2.0//EN
METHOD:PUBLISH
X-PUBLISHED-TTL:P3D
REFRESH-INTERVAL:P3D
CALSCALE:GREGORIAN
BEGIN:VEVENT
DTSTART:20140321T224500Z
DTEND:20140322T010000Z
X-MICROSOFT-CDO-ALLDAYEVENT:FALSE
SUMMARY:Swim Test
DESCRIPTION:Swim test required to attend American Red Cross  lifeguard training course at the YMCA of the Coosa Valley. Test consist of three parts: 300 yard swim in ten minutes\; tread water for two minutes\; bring a ten pound weight up from 12 foot depth and swim fifteen yards.
X-ALT-DESC;FMTTYPE=text/html:Swim test required to attend American Red Cross &nbsp\;lifeguard training course at the YMCA of the Coosa Valley. Test consist of three parts: 300 yard swim in ten minutes\; tread water for two minutes\; bring a ten pound weight up from 12 foot depth and swim fifteen yards.
LOCATION:YMCA of the Coosa Valley 100 Walnut St Gadsden\, AL 35903
UID:e.1432.384372
SEQUENCE:3
DTSTAMP:20260422T222857Z
URL:http://business.etowahchamber.org/events/details/swim-test-03-21-2014-384372
END:VEVENT

END:VCALENDAR
