BEGIN:VCALENDAR
VERSION:2.0
PRODID:-//ChamberMaster//Event Calendar 2.0//EN
METHOD:PUBLISH
X-PUBLISHED-TTL:P3D
REFRESH-INTERVAL:P3D
CALSCALE:GREGORIAN
BEGIN:VEVENT
DTSTART:20190717T130000Z
DTEND:20190717T140000Z
X-MICROSOFT-CDO-ALLDAYEVENT:FALSE
SUMMARY:Talent Development Task Team Meeting
DESCRIPTION:Our next Talent Development meeting will be Wednesday\, July 17\, 2019 from 8-9 am at The Chamber Board Room. Please RSVP if you can attend.
X-ALT-DESC;FMTTYPE=text/html:Our next Talent Development meeting will be Wednesday\, July 17\, 2019 from 8-9 am at The Chamber Board Room. Please RSVP if you can attend.&nbsp\;
LOCATION:
UID:e.1432.401158
SEQUENCE:3
DTSTAMP:20260422T053120Z
URL:http://business.etowahchamber.org/events/details/talent-development-task-team-meeting-401158
END:VEVENT

END:VCALENDAR
