BEGIN:VCALENDAR
VERSION:2.0
PRODID:-//ChamberMaster//Event Calendar 2.0//EN
METHOD:PUBLISH
X-PUBLISHED-TTL:P3D
REFRESH-INTERVAL:P3D
CALSCALE:GREGORIAN
BEGIN:VEVENT
DTSTART:20191030T130000Z
DTEND:20191030T140000Z
X-MICROSOFT-CDO-ALLDAYEVENT:FALSE
SUMMARY:Talent Development Task Team Meeting
DESCRIPTION:Business-Driven Talent Development Meeting\n\nWednesday\, October 30\, 2019\n\n8 am\n\nChamber Board Room \n\n\n\nwelcome and introductions\n\nEtowah Workforce Academy\n\n               Industry tour videos/curriculum discussion\n\nWorlds of Work planning\n\n               First Committee Meeting   October 23\, 8 am\, Oxford Civic Center\n\nWIOA-Perkins V update\n\nCareer Readiness Train-the-Trainer update\n\n               Completed by end of October\n\nMay Job Fair task team\n\n               Proposed dates: May 7\, 12\, 14 or 19\n\nLeadership Skills class update\n\nFelon and Diversion Re-Entry/Entry update                                   \n\n               24-Hour Child Care\n\nOther items for discussion\n\ndismissal
X-ALT-DESC;FMTTYPE=text/html:Business-Driven Talent Development Meeting<br />\nWednesday\, October 30\, 2019<br />\n8 am<br />\nChamber Board Room&nbsp\;<br />\n<br />\n<span style="text-transform:uppercase\;"><span style="color:windowtext\;"><span style="font-family:franklin gothic book\,sans-serif\;"><span style="font-size:11.0pt\;">welcome and introductions</span></span></span></span><br />\nEtowah Workforce Academy<br />\n&nbsp\;&nbsp\;&nbsp\;&nbsp\;&nbsp\;&nbsp\;&nbsp\;&nbsp\;&nbsp\;&nbsp\;&nbsp\;&nbsp\;&nbsp\;&nbsp\; Industry tour videos/curriculum discussion<br />\nWorlds of Work planning<br />\n&nbsp\;&nbsp\;&nbsp\;&nbsp\;&nbsp\;&nbsp\;&nbsp\;&nbsp\;&nbsp\;&nbsp\;&nbsp\;&nbsp\;&nbsp\;&nbsp\; First Committee Meeting &ndash\; October 23\, 8 am\, Oxford Civic Center<br />\nWIOA-Perkins V update<br />\nCareer Readiness Train-the-Trainer update<br />\n&nbsp\;&nbsp\;&nbsp\;&nbsp\;&nbsp\;&nbsp\;&nbsp\;&nbsp\;&nbsp\;&nbsp\;&nbsp\;&nbsp\;&nbsp\;&nbsp\; Completed by end of October<br />\nMay Job Fair task team<br />\n&nbsp\;&nbsp\;&nbsp\;&nbsp\;&nbsp\;&nbsp\;&nbsp\;&nbsp\;&nbsp\;&nbsp\;&nbsp\;&nbsp\;&nbsp\;&nbsp\; Proposed dates: May 7\, 12\, 14 or 19<br />\nLeadership Skills class update<br />\nFelon and Diversion Re-Entry/Entry update&nbsp\;&nbsp\;&nbsp\;&nbsp\;&nbsp\;&nbsp\;&nbsp\;&nbsp\;&nbsp\;&nbsp\;&nbsp\;&nbsp\;&nbsp\;&nbsp\;&nbsp\;&nbsp\;&nbsp\;&nbsp\;&nbsp\;&nbsp\;&nbsp\;&nbsp\;&nbsp\;&nbsp\;&nbsp\;&nbsp\;&nbsp\;&nbsp\;&nbsp\;&nbsp\;&nbsp\;&nbsp\;&nbsp\;&nbsp\;&nbsp\;<br />\n&nbsp\;&nbsp\;&nbsp\;&nbsp\;&nbsp\;&nbsp\;&nbsp\;&nbsp\;&nbsp\;&nbsp\;&nbsp\;&nbsp\;&nbsp\;&nbsp\; 24-Hour Child Care<br />\n<span style="text-transform:uppercase\;"><span style="color:windowtext\;"><span style="font-family:franklin gothic book\,sans-serif\;"><span style="font-size:11.0pt\;">Other items for discussion</span></span></span></span><br />\n<span style="text-transform:uppercase\;"><span style="color:windowtext\;"><span style="font-family:franklin gothic book\,sans-serif\;"><span style="font-size:11.0pt\;">dismissal</span></span></span></span><br />\n<br />\n&nbsp\;
LOCATION:Chamber Board Room
UID:e.1432.401518
SEQUENCE:3
DTSTAMP:20260420T070952Z
URL:http://business.etowahchamber.org/events/details/talent-development-task-team-meeting-401518
END:VEVENT

END:VCALENDAR
