BEGIN:VCALENDAR
VERSION:2.0
PRODID:-//ChamberMaster//Event Calendar 2.0//EN
METHOD:PUBLISH
X-PUBLISHED-TTL:P3D
REFRESH-INTERVAL:P3D
CALSCALE:GREGORIAN
BEGIN:VEVENT
DTSTART:20191120T140000Z
DTEND:20191120T150000Z
X-MICROSOFT-CDO-ALLDAYEVENT:FALSE
SUMMARY:Talent Development Task Team Meeting
DESCRIPTION:Business-Driven Talent Development Task Team\n\nNovember 20\, 2019\n\n8-9 am\n\n\n\n\n\nUpdates:\n\nDual Enrollment (# students participating\, # on scholarship\, # on waitlists) \n\nWorlds of Work (volunteers needed\, other items)\n\nSkills Gaps\, Career Ladders and Resources Database\n\nFelon Reentry (Ready to Work in diversion/repatriation\, other ideas i.e. microloans\, transitional housing\, casework)\n\nTalent Recruitment (strategies)\n\nWIOA/Perkins 5 update (CT needs\, deficiencies in equipment\, facilities\, etc.)\n\nBEST Robotics report\n\n\n\nUpcoming:\n\nCommunity Hiring Fair targeting seniors\, second chance and veterans - May 12\, 2020\, 8 am - noon\, The Venue at Coosa Landing\n\nEtowah Workforce Academy - October 13\, 2020\n\nWorlds of Work - March 10-12\, 2020\; March 11 VIP from 8-9 am
X-ALT-DESC;FMTTYPE=text/html:Business-Driven Talent Development Task Team<br />\nNovember 20\, 2019<br />\n8-9 am<br />\n<br />\n<br />\n<strong>Updates:</strong><br />\nDual Enrollment (# students participating\, # on scholarship\, # on waitlists)&nbsp\;<br />\nWorlds of Work (volunteers needed\, other items)<br />\nSkills Gaps\, Career Ladders and Resources Database<br />\nFelon Reentry (Ready to Work in diversion/repatriation\, other ideas i.e. microloans\, transitional housing\, casework)<br />\nTalent Recruitment (strategies)<br />\nWIOA/Perkins 5 update (CT needs\, deficiencies in equipment\, facilities\, etc.)<br />\nBEST Robotics report<br />\n<br />\n<strong>Upcoming:</strong><br />\nCommunity Hiring Fair targeting seniors\, second chance and veterans - May 12\, 2020\, 8 am - noon\, The Venue at Coosa Landing<br />\nEtowah Workforce Academy - October 13\, 2020<br />\nWorlds of Work - March 10-12\, 2020\; March 11 VIP from 8-9 am<br />\n<br />\n<br />\n<br />\n&nbsp\;
LOCATION:The Chamber Board Room
UID:e.1432.401780
SEQUENCE:3
DTSTAMP:20260420T054327Z
URL:http://business.etowahchamber.org/events/details/talent-development-task-team-meeting-401780
END:VEVENT

END:VCALENDAR
