BEGIN:VCALENDAR
VERSION:2.0
PRODID:-//ChamberMaster//Event Calendar 2.0//EN
METHOD:PUBLISH
X-PUBLISHED-TTL:P3D
REFRESH-INTERVAL:P3D
CALSCALE:GREGORIAN
BEGIN:VEVENT
DTSTART:20200115T190000Z
DTEND:20200115T200000Z
X-MICROSOFT-CDO-ALLDAYEVENT:FALSE
SUMMARY:Talent Development Task Team Meeting
DESCRIPTION:Business-Driven Talent Development\n\nAgenda\n\nJanuary 15\, 2019   1 pm\n\n \n\nwelcome and introductions\n\nWorlds of Work update\n\n               March 10-12\, 2020 WOW\n\n               VIP\, March 11\, 8-9 am\n\nFelon and Diversion Re-Entry/Entry update\n\n                IMPACT Center                                                                      \n\n               24-Hour Child Care\n\nResiliency/Trade Readjustment Discussion\n\nEast AlabamaWorks Quarterly Meeting\n\n               January 21\, 2020   1-3 pm\, Gadsden City High School\n\nFranchise 101 & Small Business Boot Camp (under Entrepreneurship task team) update\n\nOther items for discussion\n\ndismissal
X-ALT-DESC;FMTTYPE=text/html:<strong><span style="color:windowtext\;"><span style="font-family:franklin gothic book\,sans-serif\;"><span style="font-size:11.0pt\;">Business-Driven Talent Development</span></span></span></strong><br />\n<strong><span style="color:windowtext\;"><span style="font-family:franklin gothic book\,sans-serif\;"><span style="font-size:11.0pt\;">Agenda</span></span></span></strong><br />\n<span style="font-size:11.0pt\;">January 15\, 2019 &ndash\; 1 pm</span><br />\n&nbsp\;<br />\n<span style="text-transform:uppercase\;"><span style="color:windowtext\;"><span style="font-family:franklin gothic book\,sans-serif\;"><span style="font-size:11.0pt\;">welcome and introductions</span></span></span></span><br />\nWorlds of Work update<br />\n&nbsp\;&nbsp\;&nbsp\;&nbsp\;&nbsp\;&nbsp\;&nbsp\;&nbsp\;&nbsp\;&nbsp\;&nbsp\;&nbsp\;&nbsp\;&nbsp\; March 10-12\, 2020 WOW<br />\n&nbsp\;&nbsp\;&nbsp\;&nbsp\;&nbsp\;&nbsp\;&nbsp\;&nbsp\;&nbsp\;&nbsp\;&nbsp\;&nbsp\;&nbsp\;&nbsp\; VIP\, March 11\, 8-9 am<br />\nFelon and Diversion Re-Entry/Entry update<br />\n&nbsp\;&nbsp\;&nbsp\;&nbsp\;&nbsp\;&nbsp\;&nbsp\;&nbsp\;&nbsp\;&nbsp\;&nbsp\;&nbsp\;&nbsp\;&nbsp\;&nbsp\; IMPACT Center&nbsp\;&nbsp\;&nbsp\;&nbsp\;&nbsp\;&nbsp\;&nbsp\;&nbsp\;&nbsp\;&nbsp\;&nbsp\;&nbsp\;&nbsp\;&nbsp\;&nbsp\;&nbsp\;&nbsp\;&nbsp\;&nbsp\;&nbsp\;&nbsp\;&nbsp\;&nbsp\;&nbsp\;&nbsp\;&nbsp\;&nbsp\;&nbsp\;&nbsp\;&nbsp\;&nbsp\;&nbsp\;&nbsp\;&nbsp\;&nbsp\;&nbsp\;&nbsp\;&nbsp\;&nbsp\;&nbsp\;&nbsp\;&nbsp\;&nbsp\;&nbsp\;&nbsp\;&nbsp\;&nbsp\;&nbsp\;&nbsp\;&nbsp\;&nbsp\;&nbsp\;&nbsp\;&nbsp\;&nbsp\;&nbsp\;&nbsp\;&nbsp\;&nbsp\;&nbsp\;&nbsp\;&nbsp\;&nbsp\;&nbsp\;&nbsp\;&nbsp\;&nbsp\;&nbsp\;&nbsp\;&nbsp\;<br />\n&nbsp\;&nbsp\;&nbsp\;&nbsp\;&nbsp\;&nbsp\;&nbsp\;&nbsp\;&nbsp\;&nbsp\;&nbsp\;&nbsp\;&nbsp\;&nbsp\; 24-Hour Child Care<br />\nResiliency/Trade Readjustment Discussion<br />\nEast AlabamaWorks Quarterly Meeting<br />\n&nbsp\;&nbsp\;&nbsp\;&nbsp\;&nbsp\;&nbsp\;&nbsp\;&nbsp\;&nbsp\;&nbsp\;&nbsp\;&nbsp\;&nbsp\;&nbsp\; January 21\, 2020 &ndash\; 1-3 pm\, Gadsden City High School<br />\nFranchise 101 &amp\; Small Business Boot Camp (under Entrepreneurship task team) update<br />\n<span style="text-transform:uppercase\;"><span style="color:windowtext\;"><span style="font-family:franklin gothic book\,sans-serif\;"><span style="font-size:11.0pt\;">Other items for discussion</span></span></span></span><br />\n<span style="text-transform:uppercase\;"><span style="color:windowtext\;"><span style="font-family:franklin gothic book\,sans-serif\;"><span style="font-size:11.0pt\;">dismissal</span></span></span></span>
LOCATION:Chamber Board Room
UID:e.1432.402617
SEQUENCE:3
DTSTAMP:20260420T024347Z
URL:http://business.etowahchamber.org/events/details/talent-development-task-team-meeting-402617
END:VEVENT

END:VCALENDAR
