BEGIN:VCALENDAR
VERSION:2.0
PRODID:-//ChamberMaster//Event Calendar 2.0//EN
METHOD:PUBLISH
X-PUBLISHED-TTL:P3D
REFRESH-INTERVAL:P3D
CALSCALE:GREGORIAN
BEGIN:VEVENT
DTSTART:20200615T160000Z
DTEND:20200615T170000Z
X-MICROSOFT-CDO-ALLDAYEVENT:FALSE
SUMMARY:Talent Development Task Team Meeting
DESCRIPTION:Talent Development Task Team meeting\n\n\n\nPractice Zoom Rooms with assigned permissions to moderators\n\nDiscuss school calendar\n\nOther updates\n\nTopic: Etowah Talent Task Force Meeting\n\nTime: Jun 15\, 2020 11:00 AM Central Time (US and Canada)\n\n \n\nJoin Zoom Meeting\n\nhttps://us02web.zoom.us/j/89701213350?pwd=MFYxQXJyK2dEM3Fhc1pqZmM5OFZrQT09\n\n \n\nMeeting ID: 897 0121 3350\n\nPassword: 813600\n\nOne tap mobile\n\n+13017158592\,\,89701213350#\,\,\,\,0#\,\,813600# US (Germantown)\n\n+13126266799\,\,89701213350#\,\,\,\,0#\,\,813600# US (Chicago)\n\n \n\nDial by your location\n\n        +1 301 715 8592 US (Germantown)\n\n        +1 312 626 6799 US (Chicago)\n\n        +1 929 205 6099 US (New York)\n\n        +1 253 215 8782 US (Tacoma)\n\n        +1 346 248 7799 US (Houston)\n\n        +1 669 900 6833 US (San Jose)\n\nMeeting ID: 897 0121 3350\n\nPassword: 813600\n\nFind your local number: https://us02web.zoom.us/u/kdoNZUzewj
X-ALT-DESC;FMTTYPE=text/html:Talent Development Task Team meeting<br />\n<br />\nPractice Zoom Rooms with assigned permissions to moderators<br />\nDiscuss school calendar<br />\nOther updates<br />\n<span style="font-family:open sans\;"><span style="font-size:12.0pt\;">Topic: Etowah Talent Task Force Meeting</span></span><br />\n<span style="font-family:open sans\;"><span style="font-size:12.0pt\;">Time: Jun 15\, 2020 11:00 AM Central Time (US and Canada)</span></span><br />\n&nbsp\;<br />\n<span style="font-family:open sans\;"><span style="font-size:12.0pt\;">Join Zoom Meeting</span></span><br />\n<span style="font-family:open sans\;"><span style="font-size:12.0pt\;"><a href="https://us02web.zoom.us/j/89701213350?pwd=MFYxQXJyK2dEM3Fhc1pqZmM5OFZrQT09">https://us02web.zoom.us/j/89701213350?pwd=MFYxQXJyK2dEM3Fhc1pqZmM5OFZrQT09</a></span></span><br />\n&nbsp\;<br />\n<span style="font-family:open sans\;"><span style="font-size:12.0pt\;">Meeting ID: 897 0121 3350</span></span><br />\n<span style="font-family:open sans\;"><span style="font-size:12.0pt\;">Password: 813600</span></span><br />\n<span style="font-family:open sans\;"><span style="font-size:12.0pt\;">One tap mobile</span></span><br />\n<span style="font-family:open sans\;"><span style="font-size:12.0pt\;">+13017158592\,\,89701213350#\,\,\,\,0#\,\,813600# US (Germantown)</span></span><br />\n<span style="font-family:open sans\;"><span style="font-size:12.0pt\;">+13126266799\,\,89701213350#\,\,\,\,0#\,\,813600# US (Chicago)</span></span><br />\n&nbsp\;<br />\n<span style="font-family:open sans\;"><span style="font-size:12.0pt\;">Dial by your location</span></span><br />\n<span style="font-family:open sans\;"><span style="font-size:12.0pt\;">&nbsp\;&nbsp\;&nbsp\;&nbsp\;&nbsp\;&nbsp\;&nbsp\; +1 301 715 8592 US (Germantown)</span></span><br />\n<span style="font-family:open sans\;"><span style="font-size:12.0pt\;">&nbsp\;&nbsp\;&nbsp\;&nbsp\;&nbsp\;&nbsp\;&nbsp\; +1 312 626 6799 US (Chicago)</span></span><br />\n<span style="font-family:open sans\;"><span style="font-size:12.0pt\;">&nbsp\;&nbsp\;&nbsp\;&nbsp\;&nbsp\;&nbsp\;&nbsp\; +1 929 205 6099 US (New York)</span></span><br />\n<span style="font-family:open sans\;"><span style="font-size:12.0pt\;">&nbsp\;&nbsp\;&nbsp\;&nbsp\;&nbsp\;&nbsp\;&nbsp\; +1 253 215 8782 US (Tacoma)</span></span><br />\n<span style="font-family:open sans\;"><span style="font-size:12.0pt\;">&nbsp\;&nbsp\;&nbsp\;&nbsp\;&nbsp\;&nbsp\;&nbsp\; +1 346 248 7799 US (Houston)</span></span><br />\n<span style="font-family:open sans\;"><span style="font-size:12.0pt\;">&nbsp\;&nbsp\;&nbsp\;&nbsp\;&nbsp\;&nbsp\;&nbsp\; +1 669 900 6833 US (San Jose)</span></span><br />\n<span style="font-family:open sans\;"><span style="font-size:12.0pt\;">Meeting ID: 897 0121 3350</span></span><br />\n<span style="font-family:open sans\;"><span style="font-size:12.0pt\;">Password: 813600</span></span><br />\n<span style="font-family:open sans\;"><span style="font-size:12.0pt\;">Find your local number: <a href="https://us02web.zoom.us/u/kdoNZUzewj">https://us02web.zoom.us/u/kdoNZUzewj</a></span></span><br />\n&nbsp\;
LOCATION:Topic: Etowah Talent Task Force Meeting Time: Jun 15\, 2020 11:00 AM Central Time (US and Canada) Join Zoom Meeting https://us02web.zoom.us/j/89701213350?pwd=MFYxQXJyK2dEM3Fhc1pqZmM5OFZrQT09 Meeting ID: 897 0121 3350 Password: 813600 One tap mobile +13017158592\,\,89701213350#\,\,\,\,0#\,\,813600# US (Germantown) +13126266799\,\,89701213350#\,\,\,\,0#\,\,813600# US (Chicago) Dial by your location +1 301 715 8592 US (Germantown) +1 312 626 6799 US (Chicago) +1 929 205 6099 US (New York) +1 253 215 8782 US (Tacoma) +1 346 248 7799 US (Houston) +1 669 900 6833 US (San Jose) Meeting ID: 897 0121 3350 Password: 813600 Find your local number: https://us02web.zoom.us/u/kdoNZUzewj
UID:e.1432.402941
SEQUENCE:3
DTSTAMP:20260419T185727Z
URL:http://business.etowahchamber.org/events/details/talent-development-task-team-meeting-402941
END:VEVENT

END:VCALENDAR
