BEGIN:VCALENDAR
VERSION:2.0
PRODID:-//ChamberMaster//Event Calendar 2.0//EN
METHOD:PUBLISH
X-PUBLISHED-TTL:P3D
REFRESH-INTERVAL:P3D
CALSCALE:GREGORIAN
BEGIN:VEVENT
DTSTART:20120422T000000Z
DTEND:20120422T020000Z
X-MICROSOFT-CDO-ALLDAYEVENT:FALSE
SUMMARY:Taylor Mason Mayem Tour
DESCRIPTION:91.1 WAY-FM presents comedian Taylor Mason Mayhem Tour\, featuring Romeo and Juliet on Saturday\, April 21\, 2012 at 7 p.m. at The Tabernacle\, Gadsden\, AL\n\nTickets available at wayu.wayfm.com\n\nSponsored in part by Gold's Gym
X-ALT-DESC;FMTTYPE=text/html:91.1 WAY-FM presents comedian Taylor Mason Mayhem Tour\, featuring Romeo and Juliet on Saturday\, April 21\, 2012 at 7 p.m. at The Tabernacle\, Gadsden\, AL<br />\nTickets available at wayu.wayfm.com<br />\nSponsored in part by Gold&#39\;s Gym
LOCATION:The Tabernacle Gadsden\, AL
UID:e.1432.381449
SEQUENCE:3
DTSTAMP:20260422T165203Z
URL:http://business.etowahchamber.org/events/details/taylor-mason-mayem-tour-04-21-2012-381449
END:VEVENT

END:VCALENDAR
