BEGIN:VCALENDAR
VERSION:2.0
PRODID:-//ChamberMaster//Event Calendar 2.0//EN
METHOD:PUBLISH
X-PUBLISHED-TTL:P3D
REFRESH-INTERVAL:P3D
CALSCALE:GREGORIAN
BEGIN:VEVENT
DTSTART:20120512T170000Z
DTEND:20120513T030000Z
X-MICROSOFT-CDO-ALLDAYEVENT:FALSE
SUMMARY:The 5th Annual Fish Market Shrimp and Crawfish Boil
DESCRIPTION:The 5th Annual Shrimp and Crawfish Boil\n\nCold Beer\, Live Music and Great Food!
X-ALT-DESC;FMTTYPE=text/html:The 5th Annual Shrimp and Crawfish Boil<br />\nCold Beer\, Live Music and Great Food!&nbsp\;&nbsp\;&nbsp\; 
LOCATION:The Fish Market 344 Albert Rains Boulevard Gadsden\, AL 35901
UID:e.1432.381448
SEQUENCE:3
DTSTAMP:20260422T180301Z
URL:http://business.etowahchamber.org/events/details/the-5th-annual-fish-market-shrimp-and-crawfish-boil-05-12-2012-381448
END:VEVENT

END:VCALENDAR
