BEGIN:VCALENDAR
VERSION:2.0
PRODID:-//ChamberMaster//Event Calendar 2.0//EN
METHOD:PUBLISH
X-PUBLISHED-TTL:P3D
REFRESH-INTERVAL:P3D
CALSCALE:GREGORIAN
BEGIN:VEVENT
DTSTART;VALUE=DATE:20201013
DTEND;VALUE=DATE:20201016
TRANSP:TRANSPARENT
X-MICROSOFT-CDO-ALLDAYEVENT:TRUE
SUMMARY:The Big Week for Small Business - free webinar
DESCRIPTION:The Big Week for Small Business\n\nTuesday\, October 13   Thursday\, October 15\, 2020\n\n \n\nRegistration Link: https://events.uschamber.com/TheBigWeekforSmallBusiness\n\nViewing Link: https://events.uschamber.com/TheBigWeekforSmallBusiness/event-hub\n\n(Note: Guests must pre-register at the Registration Link above to gain access to this Viewing Link\, as it is password protected)\n\n \n\nFee: Complimentary\n\n \n\nWe at The Chamber know that small businesses like yours have faced an unprecedented set of challenges amidst an ongoing health and ongoing crisis. You have fought to survive\, and now you must find a path toward rebuilding in new and unfamiliar territory. We are here to help small business owners\, like you\, now more than ever.\n\n \n\nOn October 13-15\, 2020\, the U.S. Chamber will connect business owners with the tools you need to navigate a business world that's been forever changed. Register now to reserve your spot to this three-day complimentary virtual conference. Share your successes and challenges with your peers and gain the skills and perspective you need to come out on the other side stronger than ever. \n\n \n\nOn behalf of The Chamber of Gadsden & Etowah County and CO  by the U.S. Chamber of Commerce\, we hope you'll tune in next week.
X-ALT-DESC;FMTTYPE=text/html:<a href="https://events.uschamber.com/TheBigWeekforSmallBusiness"><strong>The Big Week for Small Business</strong></a><br />\n<strong>Tuesday\, October 13 &ndash\; Thursday\, October 15\, 2020</strong><br />\n&nbsp\;<br />\n<strong>Registration Link: </strong><a href="https://events.uschamber.com/TheBigWeekforSmallBusiness">https://events.uschamber.com/TheBigWeekforSmallBusiness</a><br />\n<strong>Viewing Link:</strong> <a href="https://events.uschamber.com/TheBigWeekforSmallBusiness/event-hub">https://events.uschamber.com/TheBigWeekforSmallBusiness/event-hub</a><br />\n(<em>Note:</em> Guests must pre-register at the Registration Link above to gain access to this Viewing Link\, as it is password protected)<br />\n&nbsp\;<br />\n<strong>Fee</strong>: Complimentary<br />\n&nbsp\;<br />\n<span style="font-family:calibri\,sans-serif\;"><span style="font-size:11.0pt\;">We at The Chamber know that small businesses like yours have faced an unprecedented set of challenges amidst an ongoing health and ongoing crisis. You have fought to survive\, and now you must find a path toward rebuilding in new and unfamiliar territory. We are here to help small business owners\, like you\, now more than ever.</span></span><br />\n&nbsp\;<br />\n<span style="font-family:calibri\,sans-serif\;"><span style="font-size:11.0pt\;">On October 13-15\, 2020\, the U.S. Chamber will connect business owners with the tools you need to navigate a business world that&rsquo\;s been forever changed. </span></span><a href="https://events.uschamber.com/thebigweekforsmallbusiness/711750?ref=LEAD"><strong><span style="font-family:calibri\,sans-serif\;"><span style="font-size:11.0pt\;">Register now</span></span></strong></a><strong><span style="font-family:calibri\,sans-serif\;"><span style="font-size:11.0pt\;"> to reserve your spot to this three-day complimentary virtual conference</span></span></strong><span style="font-family:calibri\,sans-serif\;"><span style="font-size:11.0pt\;">. Share your successes and challenges with your peers and gain the skills and perspective you need to come out on the other side stronger than ever. </span></span><br />\n&nbsp\;<br />\n<span style="font-family:calibri\,sans-serif\;"><span style="font-size:11.0pt\;">On behalf of The Chamber of Gadsden &amp\; Etowah County and CO&mdash\; by the U.S. Chamber of Commerce\, we hope you&rsquo\;ll tune in next week.</span></span>
LOCATION:Registration Link: https://events.uschamber.com/TheBigWeekforSmallBusiness Viewing Link: https://events.uschamber.com/TheBigWeekforSmallBusiness/event-hub
UID:e.1432.403462
SEQUENCE:3
DTSTAMP:20260421T081720Z
URL:http://business.etowahchamber.org/events/details/the-big-week-for-small-business-free-webinar-403462
END:VEVENT

END:VCALENDAR
