BEGIN:VCALENDAR
VERSION:2.0
PRODID:-//ChamberMaster//Event Calendar 2.0//EN
METHOD:PUBLISH
X-PUBLISHED-TTL:P3D
REFRESH-INTERVAL:P3D
CALSCALE:GREGORIAN
BEGIN:VEVENT
DTSTART:20120728T003000Z
DTEND:20120805T193000Z
X-MICROSOFT-CDO-ALLDAYEVENT:FALSE
SUMMARY:The Music Man presented by CharACTers
DESCRIPTION:CharACTers proudly presents\n\n\n\nThe Music Man\n\n\n\nDirected by Cody Carlton\n\nMusical Direction by Angie Campbell\n\n\n\nDates\, Times\, and Location:\n\nJuly 27 & 28 and August 3 & 4 at 7:30pm\n\nJuly 29 and August 5 at 2:30pm\n\nWallace Hall Fine Arts Center\n\nGadsden\, AL 35904\n\n\n\nFor more information email director Cody Carlton at cody@charactersentertainment.com\n\n\n\nTICKETS ARE ON SALE NOW! SAVE $2 BY PURCHASING BEFORE July 25th!\n\nGo to www.CharACTersEntertainment.com to purchase tickets!\n\nAdvance tickets will be available until July 25th at a discounted rate of $10 for adults and $8 for students/seniors. Starting July 26th tickets will be $12 for adults and $10 for students/seniors.\n\n\n\nTickets are available online at www.wallacehall.org\, by phone by calling 256-543-ARTS\, in person at The Hardin Center for Cultural Arts\, or at the box office one hour before show time. Advance tickets are highly recommended and seating is limited. \n\n\n\nSynopsis\n\nAn affectionate paean to Smalltown\, U.S.A. of a bygone era\, Meredith Willson's THE MUSIC MAN follows fast-talking traveling salesman Harold Hill as he cons the people of River City\, Iowa into buying instruments and uniforms for a boys' band he vows to organize - this despite the fact he doesn't know a trombone from a treble clef. His plans to skip town with the cash are foiled when he falls for Marian the librarian\, who transforms him into a respectable citizen by curtain's fall. \n\n\n\nThis award-winning\, critically acclaimed Broadway classic is an all-American institution\, thanks to is quirky characters\, charmingly predictable dramatic situations\, and one-of-a-kind\, nostalgic score of rousing marches\, barbershop quartets and sentimental ballads which have become popular standards.\n\n\n\nBy turns wicked\, funny\, warm\, romantic\, and touching\, THE MUSIC MAN is family entertainment at its best.\n\n\n\nGo to http://www.charactersentertainment.com/blog.html to get a special "Behind the Curtain" sneak peak from members of the cast and crew each week as they share their progress and stories with YOU!\n\n\n\nJoin us and Experience the Magic that is THEATRE!\n\n\n\nShow Rated G.
X-ALT-DESC;FMTTYPE=text/html:<span style="text-align: left\; line-height: 14px\; font-family: 'lucida grande'\, tahoma\, verdana\, arial\, sans-serif\; color: rgb(51\,51\,51)\; font-size: 11px">CharACTers proudly presents</span><br style="text-align: left\; line-height: 14px\; font-family: 'lucida grande'\, tahoma\, verdana\, arial\, sans-serif\; color: rgb(51\,51\,51)\; font-size: 11px" />\n<br style="text-align: left\; line-height: 14px\; font-family: 'lucida grande'\, tahoma\, verdana\, arial\, sans-serif\; color: rgb(51\,51\,51)\; font-size: 11px" />\n<span style="text-align: left\; line-height: 14px\; font-family: 'lucida grande'\, tahoma\, verdana\, arial\, sans-serif\; color: rgb(51\,51\,51)\; font-size: 11px">The Music Man</span><br style="text-align: left\; line-height: 14px\; font-family: 'lucida grande'\, tahoma\, verdana\, arial\, sans-serif\; color: rgb(51\,51\,51)\; font-size: 11px" />\n<br style="text-align: left\; line-height: 14px\; font-family: 'lucida grande'\, tahoma\, verdana\, arial\, sans-serif\; color: rgb(51\,51\,51)\; font-size: 11px" />\n<span style="text-align: left\; line-height: 14px\; font-family: 'lucida grande'\, tahoma\, verdana\, arial\, sans-serif\; color: rgb(51\,51\,51)\; font-size: 11px">Directed by Cody Carlton</span><br style="text-align: left\; line-height: 14px\; font-family: 'lucida grande'\, tahoma\, verdana\, arial\, sans-serif\; color: rgb(51\,51\,51)\; font-size: 11px" />\n<span class="text_exposed_show" style="text-align: left\; line-height: 14px\; display: inline\; font-family: 'lucida grande'\, tahoma\, verdana\, arial\, sans-serif\; color: rgb(51\,51\,51)\; font-size: 11px">Musical Direction by Angie Campbell<br />\n<br />\nDates\, Times\, and Location:<br />\nJuly 27 &amp\; 28 and August 3 &amp\; 4 at 7:30pm<br />\nJuly 29 and August 5 at 2:30pm<br />\nWallace Hall Fine Arts Center<br />\nGadsden\, AL 35904<br />\n<br />\nFor more information email director Cody Carlton at cody@charactersentertainme<wbr />nt.com<br />\n<br />\nTICKETS ARE ON SALE NOW! SAVE $2 BY PURCHASING BEFORE July 25th!<br />\nGo to&nbsp\;<a href="http://www.charactersentertainment.com/" rel="nofollow nofollow" style="color: rgb(59\,89\,152)\; cursor: pointer\; text-decoration: none" target="_blank">www.CharACTersEntertainmen<wbr />t.com</a><wbr />&nbsp\;to purchase tickets!<br />\nAdvance tickets will be available until July 25th at a discounted rate of $10 for adults and $8 for students/seniors. Starting July 26th tickets will be $12 for adults and $10 for students/seniors.<br />\n<br />\nTickets are available online at&nbsp\;<a href="http://www.wallacehall.org/" rel="nofollow nofollow" style="color: rgb(59\,89\,152)\; cursor: pointer\; text-decoration: none" target="_blank">www.wallacehall.org</a>\, by phone by calling 256-543-ARTS\, in person at The Hardin Center for Cultural Arts\, or at the box office one hour before show time. Advance tickets are highly recommended and seating is limited.&nbsp\;<br />\n<br />\nSynopsis<br />\nAn affectionate paean to Smalltown\, U.S.A. of a bygone era\, Meredith Willson&#39\;s THE MUSIC MAN follows fast-talking traveling salesman Harold Hill as he cons the people of River City\, Iowa into buying instruments and uniforms for a boys&#39\; band he vows to organize - this despite the fact he doesn&#39\;t know a trombone from a treble clef. His plans to skip town with the cash are foiled when he falls for Marian the librarian\, who transforms him into a respectable citizen by curtain&#39\;s fall.&nbsp\;<br />\n<br />\nThis award-winning\, critically acclaimed Broadway classic is an all-American institution\, thanks to is quirky characters\, charmingly predictable dramatic situations\, and one-of-a-kind\, nostalgic score of rousing marches\, barbershop quartets and sentimental ballads which have become popular standards.<br />\n<br />\nBy turns wicked\, funny\, warm\, romantic\, and touching\, THE MUSIC MAN is family entertainment at its best.<br />\n<br />\nGo to&nbsp\;<a href="http://www.charactersentertainment.com/blog.html" rel="nofollow nofollow" style="color: rgb(59\,89\,152)\; cursor: pointer\; text-decoration: none" target="_blank">http://<wbr />www.charactersentertainment<wbr />.com/blog.html</a><wbr /><wbr />&nbsp\;to get a special &ldquo\;Behind the Curtain&rdquo\; sneak peak from members of the cast and crew each week as they share their progress and stories with YOU!<br />\n<br />\nJoin us and Experience the Magic that is THEATRE!<br />\n<br />\nShow Rated G.</span>
LOCATION:Wallace Hall Fine Arts Center 1001 George Wallace Drive Gadsden\, AL
UID:e.1432.381540
SEQUENCE:3
DTSTAMP:20260422T203902Z
URL:http://business.etowahchamber.org/events/details/the-music-man-presented-by-characters-07-27-2012-381540
END:VEVENT

END:VCALENDAR
