BEGIN:VCALENDAR
VERSION:2.0
PRODID:-//ChamberMaster//Event Calendar 2.0//EN
METHOD:PUBLISH
X-PUBLISHED-TTL:P3D
REFRESH-INTERVAL:P3D
CALSCALE:GREGORIAN
BEGIN:VEVENT
DTSTART:20130726T160000Z
DTEND:20130726T210000Z
X-MICROSOFT-CDO-ALLDAYEVENT:FALSE
SUMMARY:The Trading Post teams up with Red Cross for a Compassion Blood Drive
DESCRIPTION:T-Nash Wagoner Day at\n\nThe Trading Post Western and Outdoor\n\nLocated in Gadsden\, AL will be Friday July 26th! T-Nash is 8 months old and currently fighting a form of cancer called Retinoblastoma (eye cancer). He is currently undergoing treatments in Memphis at St. Jude.  \n\n\n\nThere will be a compassion blood drive with the Red Cross from 11am-4pm. You can send a message on FB\, email us @ tradingpost0707@gmail.com\, or call us @ 256-547-0707 to make an appointment for the blood drive.\n\n\n\n10% of all sales that day will go to the Wagoner family to help with expenses. If you just want to make a monetary donation I will accept those for them as well. I will have Team Thompson T-shirts for sale too.\n\n\n\nLet's make this a big day for this brave little fella!! If you have any questions feel free to contact us any time. Thanks!
X-ALT-DESC;FMTTYPE=text/html:<span style="font-family:arial\;"><span style="font-size: 14px\;"><span style="font-size:22px\;"><strong>T-Nash Wagoner Day at<br />\nThe Trading Post Western and Outdoor</strong></span><br />\nLocated in Gadsden\, AL will be Friday July 26th! T-Nash is 8 months old and currently fighting a form of cancer called Retinoblastoma (eye cancer). He is currently undergoing treatments in Memphis at St. Jude. &nbsp\;<br />\n<br />\nThe<span class="text_exposed_show" style="display: inline\; line-height: 14px\;">re will be a compassion blood drive with the Red Cross from 11am-4pm. You can send a message on FB\, email us @ tradingpost0707@gmail.com\, or call us @ 256-547-0707 to make an appointment for the blood drive.<br />\n<br />\n10% of all sales that day will go to the Wagoner family to help with expenses. If you just want to make a monetary donation I will accept those for them as well. I will have Team Thompson T-shirts for sale too.<br />\n<br />\nLet&#39\;s make this a big day for this brave little fella!! If you have any questions feel free to contact us any time. Thanks!</span></span></span><br />\n<br />\n<br />\n
LOCATION:The Trading Post Western and Outdoor - 932 Rainbow Drive\, Gadsden
UID:e.1432.383325
SEQUENCE:3
DTSTAMP:20260423T090712Z
URL:http://business.etowahchamber.org/events/details/the-trading-post-teams-up-with-red-cross-for-a-compassion-blood-drive-07-26-2013-383325
END:VEVENT

END:VCALENDAR
