BEGIN:VCALENDAR
VERSION:2.0
PRODID:-//ChamberMaster//Event Calendar 2.0//EN
METHOD:PUBLISH
X-PUBLISHED-TTL:P3D
REFRESH-INTERVAL:P3D
CALSCALE:GREGORIAN
BEGIN:VEVENT
DTSTART:20181104T210000Z
DTEND:20181105T000000Z
X-MICROSOFT-CDO-ALLDAYEVENT:FALSE
SUMMARY:"The Truth" about Breast Cancer comedy tour
DESCRIPTION:A comedy show about a comedians journey through breast cancer to include observational comedy about everyday life. This will be a fun day for men and women! The show will include a host comedian and a special musical guest. A portion of the ticket sales will be donated to charity.
X-ALT-DESC;FMTTYPE=text/html:<span style="font-size:16px\;"><span style="font-family:arial\;">A comedy show about a comedians journey through breast cancer to include observational comedy about everyday life. This will be a fun day for men and women! The show will include a host comedian and a special musical guest. A portion of the ticket sales will be donated to charity.</span></span>
LOCATION:Pitman Theatre 629 Broad Street Gadsden\, AL 35901
UID:e.1432.398313
SEQUENCE:3
DTSTAMP:20260422T170730Z
URL:http://business.etowahchamber.org/events/details/the-truth-about-breast-cancer-comedy-tour-398313
END:VEVENT

END:VCALENDAR
