BEGIN:VCALENDAR
VERSION:2.0
PRODID:-//ChamberMaster//Event Calendar 2.0//EN
METHOD:PUBLISH
X-PUBLISHED-TTL:P3D
REFRESH-INTERVAL:P3D
CALSCALE:GREGORIAN
BEGIN:VEVENT
DTSTART:20141018T003000Z
DTEND:20141018T020000Z
X-MICROSOFT-CDO-ALLDAYEVENT:FALSE
SUMMARY:The Wizard of Oz
DESCRIPTION:CharACTers & Gadsden State with Regional Biomedical Laboratory Proudly Present: The Wizard of Oz
X-ALT-DESC;FMTTYPE=text/html:CharACTers &amp\; Gadsden State with Regional Biomedical Laboratory Proudly Present: The Wizard of Oz
LOCATION:Wallace Hall Fine Arts Center
UID:e.1432.384938
SEQUENCE:3
DTSTAMP:20260422T132130Z
URL:http://business.etowahchamber.org/events/details/the-wizard-of-oz-10-17-2014-384938
END:VEVENT

END:VCALENDAR
