BEGIN:VCALENDAR
VERSION:2.0
PRODID:-//ChamberMaster//Event Calendar 2.0//EN
METHOD:PUBLISH
X-PUBLISHED-TTL:P3D
REFRESH-INTERVAL:P3D
CALSCALE:GREGORIAN
BEGIN:VEVENT
DTSTART;VALUE=DATE:20140521
DTEND;VALUE=DATE:20140522
TRANSP:TRANSPARENT
X-MICROSOFT-CDO-ALLDAYEVENT:TRUE
SUMMARY:This Week at The Fish Market
DESCRIPTION:1504-B Rainbow Drive\n\n									\n\n									Gadsden\, AL 35901\n\n									\n\n									256-547-4141 (phone)\n\n									\n\n									256-547-4145 (fax)\n\n									\n\n									www.fishmarketgadsden.com\n\n									\n\n									will.fishmarketgadsden@gmail.com\n								\n							\n						\n\n						\n						\n							\n								\n									Click the link above to sign up for our email list!!\n								\n							\n						\n						\n\n						 \n						\n					\n				\n			\n\n			 \n			\n		\n		\n			\n			\n				\n					\n						\n						\n							\n								\n									\n									 \n\n									\n										\n											\n												Live Music this Week at The Fish Market!!!\n\n												 \n\n												Wednesday\n\n												 \n\n												Ed Howard!!\n\n												 \n\n												Every Thursday!!\n\n												\n\n												$19.99 Steamer Buckets\n\n												\n\n												and\n\n												\n\n												"The Amazing"\n\n												Russ Rosser\n\n												 \n\n												And this week...\n\n												\n\n												Fresh Boiled Crawfish!!\n\n												$14.99\n\n												 \n\n												Friday!! Friday!!\n\n												 \n\n												Travis Posey!!\n\n												 \n\n												Saturday Night Live!!\n\n												 \n\n												Lefty Collins!!\n\n												 \n\n												Never a Cover!!!!!\n											\n										\n									\n\n									\n										\n											\n												\n\n												Come Meet Finn!!!\n\n												 \n\n												Have you met our new mascot\, Finn?!? He's been dancing on the streets of Rainbow Drive for a couple of days now!! And he will be here to greet the fans and hang out on our newly expanded deck-- this weekend at The Fish Market!!\n											\n										\n									\n\n									\n										\n											\n												 \n\n												Have Your "Staycation" With Us!!\n\n												 \n\n												Come out to the Fish Market and get the same great food and drinks that you get on The Emerald Coast!! Our purveyors work tirelessly to give you the same great Gulf seafood you would expect on vacation--\n\n												so escape to paradise in Gadsden!!\n											\n										\n									\n									\n								\n							\n						\n						\n					\n				\n			\n\n			 \n\n			\n				\n					\n						\n						\n							\n								\n									 \n									Nightly Specials\n\n									\n\n									Tuesday\n\n									All You Can Eat Catfish!\n\n									\n\n									Wednesday (Live Music 6:30-9:30)\n\n									Kids Eat Free!!\n\n									\n\n									Thursday (Live Music 6:30-9:30)\n\n									"The Amazing Russ Rosser"\n\n									$19.95 Steamer Buckets\n\n									$14.95 Boiled Crawfish\n\n									\n\n									Friday and Saturday\n\n									Live Music and Dinner Specials!!\n\n									\n\n									Sunday\n\n									10% off with Church Bulletin!!
X-ALT-DESC;FMTTYPE=text/html:<table align="center" border="0" cellpadding="0" cellspacing="0" style="width:100.0%\;" width="100%">\n	<tbody>\n		<tr>\n			<td style="width:100.0%\;padding:0in 0in 0in 0in\;vertical-align:top\;">\n			<table align="center" border="0" cellpadding="0" cellspacing="0" style="width:100.0%\;" width="100%">\n				<tbody>\n					<tr>\n						<td style="width:100.0%\;padding:0in 0in 0in 0in\;vertical-align:top\;">\n						<table align="center" border="0" cellpadding="0" cellspacing="0" style="width:100.0%\;background:#CBCBCB\;" width="100%">\n							<tbody>\n								<tr>\n									<td style="padding:10.5pt 0in 10.5pt 0in\;vertical-align:bottom\;">&nbsp\;<br />\n									<span style="font-size:22px\;"><span style="font-family:arial\;"><strong><span style="color:blue\;">1504-B Rainbow Drive</span></strong><br />\n									<br />\n									<strong><span style="color:blue\;">Gadsden\, AL 35901</span></strong><br />\n									<br />\n									<strong><span style="color:blue\;">256-547-4141 (phone)</span></strong><br />\n									<br />\n									<strong><span style="color:blue\;">256-547-4145 (fax)</span></strong><br />\n									<br />\n									<strong><span style="color:#595959\;"><a href="http://r20.rs6.net/tn.jsp?f=001qr91XahjHD5JGUBPYM-YiSvrO6mL9B0MXrfwZ1e9naQ9ntoLAvt6Lm2-xHlIkcvGvZCFxOiMwkXxzHneNCbBYHcOrUspJaO6dQH7hTPsEh-ul_U4BvgzrmiEBu3ValymC5CR_B8EbMp6haB4QNdUOdGhsf7DWBKpmDRqXh8pu0CxMHU-yMkHTw==&amp\;c=3yTQEsdnXGZ1Lx2xC-e88Dicq2W-JbVi_5ITrDm8hm0DvYtjpIN7gw==&amp\;ch=XaEH6cJPa-ansKb9FpSUErzLF6mDwNWJceHjTL_6yipjUXkQnO0wsA==" target="_blank">www.fishmarketgadsden.com</a></span></strong><br />\n									<br />\n									<strong><span style="color:#595959\;"><a href="mailto:will.fishmarketgadsden@gmail.com" target="_blank">will.fishmarketgadsden@gmail.com</a></span></strong></span></span></td>\n								</tr>\n							</tbody>\n						</table>\n\n						<div style="clear:both\;">\n						<table align="center" border="0" cellpadding="0" cellspacing="0" id="content_LETTER.BLOCK14" style="line-height: 1.6\; width: 100%\;" width="100%">\n							<tbody>\n								<tr>\n									<td style="padding:5.25pt 19.5pt 0in 19.5pt\;vertical-align:top\;"><span style="font-size:22px\;"><span style="font-family:arial\;"><span style="color:blue\;">Click the link above to sign up for our email list!!</span></span></span></td>\n								</tr>\n							</tbody>\n						</table>\n						</div>\n\n						<div style="clear:both\;">&nbsp\;</div>\n						</td>\n					</tr>\n				</tbody>\n			</table>\n\n			<div style="clear:both\;">&nbsp\;</div>\n			</td>\n		</tr>\n		<tr>\n			<td style="width:100.0%\;background:#DBDBDB\;padding:.75pt .75pt .75pt .75pt\;vertical-align:top\;">\n			<table align="center" border="0" cellpadding="0" cellspacing="0" style="width:100.0%\;background:white\;" width="100%">\n				<tbody>\n					<tr>\n						<td style="padding:0in 0in 0in 0in\;vertical-align:top\;">\n						<table align="center" border="0" cellpadding="0" cellspacing="0" style="width:100.0%\;" width="100%">\n							<tbody>\n								<tr style="height:209px\;">\n									<td style="width:100.0%\;padding:0in 0in 0in 0in\;height:209px\;vertical-align:top\;">\n									<div>&nbsp\;</div>\n\n									<table align="center" border="0" cellpadding="0" cellspacing="0" id="content_LETTER.BLOCK27" style="width:100%\;background:rgb(255\, 255\, 172)\;" width="100%">\n										<tbody>\n											<tr>\n												<td style="padding:0in 7.5pt 0in 7.5pt\;vertical-align:top\;"><span style="font-size:22px\;"><span style="font-family:arial\;"><strong><span style="color:blue\;">Live Music this Week at The Fish Market!!!</span></strong><br />\n												&nbsp\;<br />\n												<strong><span style="color:blue\;">Wednesday</span></strong><br />\n												&nbsp\;<br />\n												<strong><span style="color:blue\;">Ed Howard!!</span></strong><br />\n												&nbsp\;<br />\n												<strong><span style="color:blue\;">Every Thursday!!</span></strong><br />\n												<br />\n												<strong><span style="color:blue\;">$19.99 Steamer Buckets</span></strong><br />\n												<br />\n												<strong><span style="color:blue\;">and</span></strong><br />\n												<br />\n												<strong><span style="color:blue\;">&quot\;The Amazing&quot\;</span></strong><br />\n												<strong><span style="color:blue\;">Russ Rosser</span></strong><br />\n												&nbsp\;<br />\n												<strong><span style="color:blue\;">And this week...</span></strong><br />\n												<br />\n												<strong><span style="color:blue\;">Fresh Boiled Crawfish!!</span></strong><br />\n												<strong><span style="color:blue\;">$14.99</span></strong><br />\n												&nbsp\;<br />\n												<strong><span style="color:blue\;">Friday!! Friday!!</span></strong><br />\n												&nbsp\;<br />\n												<strong><span style="color:blue\;">Travis Posey!!</span></strong><br />\n												&nbsp\;<br />\n												<strong><span style="color:blue\;">Saturday Night Live!!</span></strong><br />\n												&nbsp\;<br />\n												<strong><span style="color:blue\;">Lefty Collins!!</span></strong><br />\n												&nbsp\;<br />\n												<strong><span style="color:red\;">Never a Cover!!!!!</span></strong></span></span></td>\n											</tr>\n										</tbody>\n									</table>\n\n									<table align="center" border="0" cellpadding="0" cellspacing="0" id="content_LETTER.BLOCK20" style="width:100%\;background:rgb(204\, 255\, 204)\;" width="100%">\n										<tbody>\n											<tr>\n												<td style="padding:0in 7.5pt 0in 7.5pt\;vertical-align:top\;"><br />\n												<span style="font-size:22px\;"><span style="font-family:arial\;"><strong><span style="color:blue\;">Come Meet&nbsp\;Finn!!!</span></strong><br />\n												&nbsp\;<br />\n												<span style="color:blue\;">Have you met our new mascot\, Finn?!? He&#39\;s been dancing on the streets of Rainbow Drive for a couple of days now!! And he will be here to greet the fans and hang out on our newly expanded deck-- this weekend at The Fish Market!!</span></span></span></td>\n											</tr>\n										</tbody>\n									</table>\n\n									<table align="center" border="0" cellpadding="0" cellspacing="0" id="content_LETTER.BLOCK22" style="width:100%\;background:rgb(114\, 255\, 255)\;" width="100%">\n										<tbody>\n											<tr>\n												<td style="padding:0in 7.5pt 0in 7.5pt\;vertical-align:top\;"><span style="font-size:22px\;"><span style="font-family:arial\;">&nbsp\;<br />\n												<strong><span style="color:blue\;">Have Your &quot\;Staycation&quot\;&nbsp\;With Us!!</span></strong><br />\n												&nbsp\;<br />\n												<strong><span style="color:blue\;">Come out to the Fish Market and get the same great&nbsp\;food and drinks that you get on The Emerald Coast!! Our purveyors work tirelessly to give you the same great Gulf seafood you would expect on vacation--</span></strong><br />\n												<strong><span style="color:blue\;">so escape to paradise in Gadsden!!</span></strong></span></span></td>\n											</tr>\n										</tbody>\n									</table>\n									</td>\n								</tr>\n							</tbody>\n						</table>\n						</td>\n					</tr>\n				</tbody>\n			</table>\n\n			<div>&nbsp\;</div>\n\n			<table align="center" border="0" cellpadding="0" cellspacing="0" id="content_LETTER.BLOCK7" style="width:100.0%\;" width="100%">\n				<tbody>\n					<tr>\n						<td style="width:100.0%\;padding:0in 0in 0in 0in\;vertical-align:top\;">\n						<table align="center" border="0" cellpadding="0" cellspacing="0" style="width:100.0%\;background:#F2EE79\;" width="100%">\n							<tbody>\n								<tr>\n									<td style="padding:5.25pt 0in 5.25pt 19.5pt\;vertical-align:top\;">&nbsp\;</td>\n									<td style="width:100.0%\;padding:5.25pt 19.5pt 5.25pt 19.5pt\;vertical-align:top\;"><span style="font-size:22px\;"><span style="font-family:arial\;"><strong><span style="color:green\;">Nightly Specials</span></strong><br />\n									<br />\n									<strong><span style="color:green\;">Tuesday</span></strong><br />\n									<span style="color:green\;">All You Can Eat Catfish!</span><br />\n									<br />\n									<strong><span style="color:green\;">Wednesday </span></strong><strong><span style="color:green\;">(Live Music 6:30-9:30)</span></strong><br />\n									<span style="color:green\;">Kids Eat Free!!</span><br />\n									<br />\n									<strong><span style="color:green\;">Thursday</span></strong><strong><span style="color:green\;"> (Live Music 6:30-9:30)</span></strong><br />\n									<span style="color:green\;">&quot\;The Amazing Russ Rosser&quot\;</span><br />\n									<span style="color:green\;">$19.95 Steamer Buckets</span><br />\n									<span style="color:green\;">$14.95 Boiled Crawfish</span><br />\n									<br />\n									<strong><span style="color:green\;">Friday and Saturday</span></strong><br />\n									<span style="color:green\;">Live Music and Dinner Specials!!</span><br />\n									<br />\n									<strong><span style="color:green\;">Sunday</span></strong><br />\n									<span style="color:green\;">10% off with Church Bulletin!!</span></span></span><br />\n									&nbsp\;</td>\n								</tr>\n							</tbody>\n						</table>\n						</td>\n					</tr>\n				</tbody>\n			</table>\n			</td>\n		</tr>\n	</tbody>\n</table>\n
LOCATION:1504-B Rainbow Drive Gadsden\, AL 35901
UID:e.1432.384653
SEQUENCE:3
DTSTAMP:20260422T194848Z
URL:http://business.etowahchamber.org/events/details/this-week-at-the-fish-market-05-21-2014-384653
END:VEVENT

END:VCALENDAR
