BEGIN:VCALENDAR
VERSION:2.0
PRODID:-//ChamberMaster//Event Calendar 2.0//EN
METHOD:PUBLISH
X-PUBLISHED-TTL:P3D
REFRESH-INTERVAL:P3D
CALSCALE:GREGORIAN
BEGIN:VEVENT
DTSTART:20150319T233000Z
DTEND:20150320T010000Z
X-MICROSOFT-CDO-ALLDAYEVENT:FALSE
SUMMARY:Toastmasters Open House Event
DESCRIPTION:Greater Gadsden Speakers- at Toastmasters Club Open House Event\n\nToastmasters   a program that will develop your business's  management and staff in the art of persuasion\, effective communication\, leadership\, and confidence.\n\n\n\nToastmasters is helping management and personnel to become effective communicators. Toastmasters will sharpen any business's  management and staff in the art of persuasion\, affective communication\, leadership\, and confidence. Competent communicators boost morale and production in the workplace.\n\n\n\nMarch 19\, 2015 at the YMCA building in Gadsden. Our Open House time is 6:30 P.M.   8:00 P.M.
X-ALT-DESC;FMTTYPE=text/html:<span style="color: rgb(34\, 34\, 34)\; font-family: arial\, sans-serif\; font-size: 12.8000001907349px\; line-height: normal\;"><strong><u>Greater Gadsden Speakers- at Toastmasters Club Open House Event</u></strong><br />\nToastmasters &ndash\; a program that will develop your business&rsquo\;s &nbsp\;management and staff in the art of persuasion\, effective communication\, leadership\, and confidence.<br />\n<br />\nToastmasters is helping management and personnel to become effective communicators. Toastmasters will sharpen any business&rsquo\;s &nbsp\;management and staff in the art of persuasion\, affective communication\, leadership\, and confidence. Competent communicators boost morale and production in the workplace.</span><br />\n<br />\n<span class="aBn" data-term="goog_317975524" style="border-bottom-width: 1px\; border-bottom-style: dashed\; border-bottom-color: rgb(204\, 204\, 204)\; position: relative\; top: -2px\; z-index: 0\; color: rgb(34\, 34\, 34)\; font-family: arial\, sans-serif\; font-size: 12.8000001907349px\; line-height: normal\;" tabindex="0"><span class="aQJ" style="position: relative\; top: 2px\; z-index: -1\;">March 19\, 2015 at the&nbsp\;</span></span><span style="color: rgb(34\, 34\, 34)\; font-family: arial\, sans-serif\; font-size: 12.8000001907349px\; line-height: normal\;">YMCA building in Gadsden. Our Open House time is&nbsp\;</span><span class="aBn" data-term="goog_317975525" style="border-bottom-width: 1px\; border-bottom-style: dashed\; border-bottom-color: rgb(204\, 204\, 204)\; position: relative\; top: -2px\; z-index: 0\; color: rgb(34\, 34\, 34)\; font-family: arial\, sans-serif\; font-size: 12.8000001907349px\; line-height: normal\;" tabindex="0"><span class="aQJ" style="position: relative\; top: 2px\; z-index: -1\;">6:30 P.M. &ndash\; 8:00 P.M.</span></span>
LOCATION:YMCA of the Coosa Valley Gadsden\, AL 35901
UID:e.1432.385885
SEQUENCE:3
DTSTAMP:20260422T064248Z
URL:http://business.etowahchamber.org/events/details/toastmasters-open-house-event-03-19-2015-385885
END:VEVENT

END:VCALENDAR
