BEGIN:VCALENDAR
VERSION:2.0
PRODID:-//ChamberMaster//Event Calendar 2.0//EN
METHOD:PUBLISH
X-PUBLISHED-TTL:P3D
REFRESH-INTERVAL:P3D
CALSCALE:GREGORIAN
BEGIN:VEVENT
DTSTART:20201007T173000Z
DTEND:20201007T183000Z
X-MICROSOFT-CDO-ALLDAYEVENT:FALSE
SUMMARY:Transfer Scholarships Virtual Workshop with Gadsden State
DESCRIPTION:Join Gadsden State for a Virtual Workshop on Transfer Scholarships via Blackboard Collaborate.\n\nRSVP to arc@gadsdenstate.edu for access information.
X-ALT-DESC;FMTTYPE=text/html:<span style="font-size:16px\;"><span style="font-family:arial\;">Join Gadsden State for a Virtual Workshop on Transfer Scholarships via Blackboard Collaborate.<br />\n<strong>RSVP to&nbsp\;<a href="mailto:arc@gadsdenstate.edu?subject=Transfer%20Scholarships%20Workshop"><span style="color:#0000FF\;">arc@gadsdenstate.edu</span></a> for access information.</strong></span></span>
LOCATION:
UID:e.1432.403299
SEQUENCE:3
DTSTAMP:20260421T081221Z
URL:http://business.etowahchamber.org/events/details/transfer-scholarships-virtual-workshop-with-gadsden-state-403299
END:VEVENT

END:VCALENDAR
