BEGIN:VCALENDAR
VERSION:2.0
PRODID:-//ChamberMaster//Event Calendar 2.0//EN
METHOD:PUBLISH
X-PUBLISHED-TTL:P3D
REFRESH-INTERVAL:P3D
CALSCALE:GREGORIAN
BEGIN:VEVENT
DTSTART:20201010T170000Z
DTEND:20201010T220000Z
X-MICROSOFT-CDO-ALLDAYEVENT:FALSE
SUMMARY:Trick-or-Treat Village at Noccalula Falls
DESCRIPTION:It's a fun-filled day at Noccalula Falls! Let the children enjoy trick-or treating in our pioneer village\, train rides\, and visit the petting zoo! Starting at noon on Saturday till 5:00 PM. Kids are welcome to get all Halloween dressed up.\n\n	Only $6.00 for all ages 4 years and up\, little ones 3 and under are free.\n	First 750 kids will receive a Halloween bag\n	Free Halloween Movie starts at dark at the front entry (Movie title - TBA)\n\nWe will be following all recommended guidelines for COVID-19
X-ALT-DESC;FMTTYPE=text/html:<span style="font-size:16px\;"><span style="font-family:arial\;">It&#39\;s a fun-filled day at Noccalula Falls! Let the children enjoy trick-or treating in our pioneer village\, train rides\, and visit the petting zoo! Starting at noon on Saturday till 5:00 PM. Kids are welcome to get all Halloween dressed up.</span></span>\n<ul>\n	<li><span style="font-size:16px\;"><span style="font-family:arial\;">Only $6.00 for all ages 4 years and up\, little ones 3 and under are free.</span></span></li>\n	<li><span style="font-size:16px\;"><span style="font-family:arial\;">First 750 kids will receive a Halloween bag</span></span></li>\n	<li><span style="font-size:16px\;"><span style="font-family:arial\;">Free Halloween Movie starts at dark at the front entry (Movie title - TBA)</span></span></li>\n</ul>\n<span style="font-size:16px\;"><span style="font-family:arial\;"><strong>We will be following all recommended guidelines for COVID-19</strong></span></span>
LOCATION:Noccalula Falls Park & Campground
UID:e.1432.403300
SEQUENCE:3
DTSTAMP:20260421T081907Z
URL:http://business.etowahchamber.org/events/details/trick-or-treat-village-at-noccalula-falls-403300
END:VEVENT

END:VCALENDAR
