BEGIN:VCALENDAR
VERSION:2.0
PRODID:-//ChamberMaster//Event Calendar 2.0//EN
METHOD:PUBLISH
X-PUBLISHED-TTL:P3D
REFRESH-INTERVAL:P3D
CALSCALE:GREGORIAN
BEGIN:VEVENT
DTSTART:20201031T150000Z
DTEND:20201031T220000Z
X-MICROSOFT-CDO-ALLDAYEVENT:FALSE
SUMMARY:Trunk-or-Treat at The Family Success Center
DESCRIPTION:Join us at 10 am for safe\, family fun at The Family Success Center Trunk-or-Treat! We will have free food\, games\, and of course candy for the trick-or-treaters!\n\n\n\nPARKING: Our parking lot is behind the building and is where we will hold the event. Parking for guests will be available in the street or at the East Gadsden United Methodist Church across the street.\n\n\n\nPARTICIPATION: We are looking for community partners to host a trunk with us! Please email tcranford1225@gmail.com for more information\n\n\n\nSAFETY: To keep our staff and guests healthy we will be enforcing 6 ft. social distancing and masks worn by all adults. Masks for children are preferred but not required\, especially under 6 years.
X-ALT-DESC;FMTTYPE=text/html:<span style="font-size:16px\;"><span style="font-family:arial\;">Join us at 10 am for safe\, family fun at The Family Success Center Trunk-or-Treat! We will have free food\, games\, and of course candy for the trick-or-treaters!<br />\n<br />\n<strong>PARKING:</strong> Our parking lot is behind the building and is where we will hold the event. Parking for guests will be available in the street or at the East Gadsden United Methodist Church across the street.<br />\n<br />\n<strong>PARTICIPATION:</strong> We are looking for community partners to host a trunk with us! Please email <strong><a href="http://tcranford1225@gmail.com"><span style="color:#0000FF\;">tcranford1225@gmail.com</span></a></strong> for more information<br />\n<br />\n<strong>SAFETY:</strong> To keep our staff and guests healthy we will be enforcing 6 ft. social distancing and masks worn by all adults. Masks for children are preferred but not required\, especially under 6 years.</span></span>
LOCATION:Family Success Center
UID:e.1432.403477
SEQUENCE:3
DTSTAMP:20260421T082226Z
URL:http://business.etowahchamber.org/events/details/trunk-or-treat-at-the-family-success-center-403477
END:VEVENT

END:VCALENDAR
