BEGIN:VCALENDAR
VERSION:2.0
PRODID:-//ChamberMaster//Event Calendar 2.0//EN
METHOD:PUBLISH
X-PUBLISHED-TTL:P3D
REFRESH-INTERVAL:P3D
CALSCALE:GREGORIAN
BEGIN:VEVENT
DTSTART:20180801T210000Z
DTEND:20180802T010000Z
X-MICROSOFT-CDO-ALLDAYEVENT:FALSE
SUMMARY:U.S. Army Corps of Engineers: Winter Water Level Meeting
DESCRIPTION:Arrive any time between the hours of 4 P.M. and 7 P.M.(recommended by the USACE that those attending this meeting spend a minimum of one hour meeting with the various subject matter experts\, receiving informational materials and giving feedback/comments or concerns.)\n\n \n\nUSACE wants your input on a water supply reallocation study and a flood storage analysis in the ACT River Basin. Public scoping meetings (open-house format) will be held by the U.S. Army Corps of Engineers (USACE)\, Mobile District. See the attached PDF newsletter or visit http://www.sam.usace.army.mil/ for more information.\n\n \n\nPublic scoping meetings will be held at the following location and time:\n\nWednesday\, August 1\, 2018\n\n4:00 - 8:00 pm Central time\n\nThe Pitman Theater\n\n629 Broad Street\n\nGadsden\, AL 35901\n\n(265) 549-4740
X-ALT-DESC;FMTTYPE=text/html:<span style="font-size:16px\;"><span style="font-family:arial\;">Arrive any time between the hours of 4 P.M. and 7 P.M.(recommended by the USACE that those attending this meeting spend a minimum of one hour meeting with the various subject matter experts\, receiving informational materials and giving feedback/comments or concerns.)<br />\n&nbsp\;<br />\n<strong>USACE wants your input on a water supply reallocation study and a flood storage analysis in the ACT River Basin. Public scoping meetings (open-house format) will be held by the U.S. Army Corps of Engineers (USACE)\, Mobile District. See the attached PDF newsletter or visit <a href="http://www.sam.usace.army.mil/">http://www.sam.usace.army.mil/</a> for more information.</strong><br />\n&nbsp\;<br />\n<u><strong>Public scoping meetings will be held at the following location and time:</strong></u><br />\nWednesday\, August 1\, 2018<br />\n4:00 - 8:00 pm Central time<br />\nThe Pitman Theater<br />\n629 Broad Street<br />\nGadsden\, AL 35901<br />\n(265) 549-4740</span></span>
LOCATION:The Pitman Theater 629 Broad Street Gadsden\, AL 35901
UID:e.1432.397995
SEQUENCE:3
DTSTAMP:20260422T204900Z
URL:http://business.etowahchamber.org/events/details/u-s-army-corps-of-engineers-winter-water-level-meeting-397995
END:VEVENT

END:VCALENDAR
