BEGIN:VCALENDAR
VERSION:2.0
PRODID:-//ChamberMaster//Event Calendar 2.0//EN
METHOD:PUBLISH
X-PUBLISHED-TTL:P3D
REFRESH-INTERVAL:P3D
CALSCALE:GREGORIAN
BEGIN:VEVENT
DTSTART:20130502T230000Z
DTEND:20130503T030000Z
X-MICROSOFT-CDO-ALLDAYEVENT:FALSE
SUMMARY:Uncorked - The Derby 2013
DESCRIPTION:An Event to Benefit the 2013\n\n	Campaign for Heroes\n\n	for the American Red Cross\n\n	Featuring a silent and live auction\n\n	conducted by\n\n	C King Benefit Auctions\n\n	Catering by The Fish Market\n\n	\n\n	Dress Attire: Derby\, of course!\n\n\nChristie King Ray\, AAL #1219
X-ALT-DESC;FMTTYPE=text/html:<div style="text-align: center">\n	&nbsp\;</div>\n<p class="MsoNormal" style="text-align: center">\n	<span style="font-size: 24px"><span style="font-family: tahoma"><strong><span style="color: rgb(255\,0\,0)">An Event to Benefit&nbsp\;the 2013<br />\n	Campaign&nbsp\;for&nbsp\;Heroes<br />\n	for the&nbsp\;American Red Cross</span></strong></span></span><u5:p></u5:p><o:p></o:p></p>\n<p class="MsoNormal" style="text-align: center">\n	<span style="font-size: 20px"><span style="font-family: tahoma"><strong><span style="color: rgb(255\,0\,0)">Featuring a silent and live auction<br />\n	conducted by<br />\n	C King Benefit Auctions</span></strong></span></span><u5:p></u5:p><o:p></o:p></p>\n<p class="MsoNormal" style="text-align: center">\n	<span style="font-size: 20px"><span style="font-family: tahoma"><strong><span style="color: rgb(255\,0\,0)">Catering by The Fish Market<br />\n	<br />\n	Dress Attire: Derby\, of course!</span></strong></span></span><o:p></o:p></p>\n<br />\n<span style="color: #ff0000"><strong><span style="font-family: verdana"><span style="font-size: 8px">Christie King Ray\, AAL #1219</span></span></strong></span><br />\n<br />\n<p class="MsoNormal">\n	<o:p></o:p></p>\n<!--EndFragment--><br />\n
LOCATION:Pitman Theatre 629 Broad Street Gadsden\, AL 35901
UID:e.1432.383082
SEQUENCE:3
DTSTAMP:20260423T094043Z
URL:http://business.etowahchamber.org/events/details/uncorked-the-derby-2013-05-02-2013-383082
END:VEVENT

END:VCALENDAR
