BEGIN:VCALENDAR
VERSION:2.0
PRODID:-//ChamberMaster//Event Calendar 2.0//EN
METHOD:PUBLISH
X-PUBLISHED-TTL:P3D
REFRESH-INTERVAL:P3D
CALSCALE:GREGORIAN
BEGIN:VEVENT
DTSTART:20120830T170000Z
DTEND:20120830T180000Z
X-MICROSOFT-CDO-ALLDAYEVENT:FALSE
SUMMARY:United Way Campaign Kickoff Luncheon
DESCRIPTION:Meet the new 2012 Campaign Cabinet and enjoy lunch catered by Morgan House.  The event will have a football theme\, so wear your favorite school colors!
X-ALT-DESC;FMTTYPE=text/html:Meet the new 2012 Campaign Cabinet and enjoy lunch catered by Morgan House.&nbsp\; The event will have a football theme\, so wear your favorite school colors!
LOCATION:Convention Hall
UID:e.1432.381529
SEQUENCE:3
DTSTAMP:20260422T214958Z
URL:http://business.etowahchamber.org/events/details/united-way-campaign-kickoff-luncheon-08-30-2012-381529
END:VEVENT

END:VCALENDAR
