BEGIN:VCALENDAR
VERSION:2.0
PRODID:-//ChamberMaster//Event Calendar 2.0//EN
METHOD:PUBLISH
X-PUBLISHED-TTL:P3D
REFRESH-INTERVAL:P3D
CALSCALE:GREGORIAN
BEGIN:VEVENT
DTSTART:20140828T163000Z
DTEND:20140828T180000Z
X-MICROSOFT-CDO-ALLDAYEVENT:FALSE
SUMMARY:United Way Kickoff Celebration at Convention Hall
DESCRIPTION:Join YLS as we celebrate the kickoff of the United Way Fall Campaign.
X-ALT-DESC;FMTTYPE=text/html:<span style="font-family:century\,serif\;">Join YLS as we celebrate the kickoff of the United Way Fall Campaign.</span>
LOCATION:Convention Hall 344 S 1st St\, Gadsden\, AL 35901 (256) 549-4669
UID:e.1432.384464
SEQUENCE:3
DTSTAMP:20260422T155507Z
URL:http://business.etowahchamber.org/events/details/united-way-kickoff-celebration-at-convention-hall-08-28-2014-384464
END:VEVENT

END:VCALENDAR
