BEGIN:VCALENDAR
VERSION:2.0
PRODID:-//ChamberMaster//Event Calendar 2.0//EN
METHOD:PUBLISH
X-PUBLISHED-TTL:P3D
REFRESH-INTERVAL:P3D
CALSCALE:GREGORIAN
BEGIN:VEVENT
DTSTART:20140710T230000Z
DTEND:20140711T010000Z
X-MICROSOFT-CDO-ALLDAYEVENT:FALSE
SUMMARY:United Way's YLS For the Love of Green
DESCRIPTION:Come enjoy lawn games\, food from local food vendors and hear from a representative from the new recycling center. Find out what they do for our community and ways we can help with this effort.
X-ALT-DESC;FMTTYPE=text/html:<span style="font-family:century\,serif\;">Come enjoy lawn games\, food from local food vendors and hear from a representative from the new recycling center. Find out what they do for our community and ways we can help with this effort.</span>
LOCATION:The hill next to Gadssden Convention Hall
UID:e.1432.384463
SEQUENCE:3
DTSTAMP:20260422T171723Z
URL:http://business.etowahchamber.org/events/details/united-way-s-yls-for-the-love-of-green-07-10-2014-384463
END:VEVENT

END:VCALENDAR
