BEGIN:VCALENDAR
VERSION:2.0
PRODID:-//ChamberMaster//Event Calendar 2.0//EN
METHOD:PUBLISH
X-PUBLISHED-TTL:P3D
REFRESH-INTERVAL:P3D
CALSCALE:GREGORIAN
BEGIN:VEVENT
DTSTART:20180913T190000Z
DTEND:20180913T200000Z
X-MICROSOFT-CDO-ALLDAYEVENT:FALSE
SUMMARY:US Census Data Training - FREE!
DESCRIPTION:Census Programs\, Surveys & Data Tools\n\nData workshop sponsored by \n\nThe Chamber of Gadsden & Etowah County\, Inc.   \n\n \n\n Workshop Overview\n\n\n	Census at a Glance\n	American Community Survey & Decennial Census (compared)\n	Overview of Data Tools\n	Response Outreach Area Mapper (ROAM)\n	Decennial Census Summary Files & Geography\n	Open Discussion\n\n \n\n \n\nGale D. Brock\, Data Dissemination Specialist\n\nCustomer Liaison & Marketing Services Office/\n\nData Dissemination Branch\n\nU.S. Census Bureau\n\nO: 678-438-6917  |  M: 678-438-6917 \n\ncensus.gov  |  @uscensusbureau
X-ALT-DESC;FMTTYPE=text/html:<p><span style="color:black\;"><span style="font-size:28.0pt\;">Census Programs\, Surveys &amp\; Data Tools</span></span><br />\n<span style="color:black\;"><span style="font-size:18.0pt\;">Data workshop sponsored by </span></span></p>\n\n<p><span style="color:black\;"><span style="font-size:18.0pt\;">The Chamber of Gadsden &amp\; Etowah County\, Inc.&nbsp\; &nbsp\;</span></span><br />\n&nbsp\;<br />\n&nbsp\;<strong><span style="color:black\;"><span style="font-size:20.0pt\;">Workshop Overview</span></span></strong></p>\n\n<ul>\n	<li style="color:black\;"><strong><span style="font-size:18.0pt\;">Census at a Glance</span></strong></li>\n	<li style="color:black\;"><strong><span style="font-size:18.0pt\;">American Community Survey&nbsp\;&amp\; Decennial Census (compared)</span></strong></li>\n	<li style="color:black\;"><strong><span style="font-size:18.0pt\;">Overview of Data Tools</span></strong></li>\n	<li style="color:black\;"><strong><span style="font-size:18.0pt\;">Response Outreach Area Mapper (ROAM)</span></strong></li>\n	<li style="color:black\;"><strong><span style="font-size:18.0pt\;">Decennial Census Summary Files &amp\; Geography</span></strong></li>\n	<li style="color:black\;margin-bottom:8.0pt\;"><strong><span style="font-size:18.0pt\;">Open Discussion</span></strong></li>\n</ul>\n&nbsp\;<br />\n&nbsp\;<br />\n<strong><span style="color:black\;"><span style="font-family:calibri\,sans-serif\;"><span style="font-size:12.0pt\;">Gale D. Brock\,</span></span></span></strong><span style="color:black\;"><span style="font-size:12.0pt\;">&nbsp\;Data Dissemination Specialist</span></span><br />\n<span style="background-color:rgba(255\, 255\, 255\, 0)\;"><span style="color:black\;"><span style="font-size:12.0pt\;">Customer Liaison &amp\; Marketing Services Office/</span></span></span><br />\n<span style="background-color:rgba(255\, 255\, 255\, 0)\;"><span style="color:black\;"><span style="font-size:12.0pt\;">Data Dissemination Branch</span></span></span><br />\n<span style="color:black\;"><span style="font-size:12.0pt\;"><span style="background-color:rgba(255\, 255\, 255\, 0)\;">U.S. Census Bureau</span></span></span><br />\n<span style="color:black\;"><span style="font-size:12.0pt\;"><span style="background-color:rgba(255\, 255\, 255\, 0)\;">O:&nbsp\;678-438-6917&nbsp\;&nbsp\;|&nbsp\;&nbsp\;M:&nbsp\;678-438-6917&nbsp\;</span></span></span><br />\n<span style="color:black\;"><span style="font-size:12.0pt\;"><a href="http://www.census.gov/" target="_blank"><span style="background-color:rgba(255\, 255\, 255\, 0)\;"><strong><span style="text-decoration:none\;text-underline:none\;"><span style="color:blue\;"><span style="font-family:calibri\,sans-serif\;">census.gov</span></span></span></strong></span></a><strong><span style="font-family:calibri\,sans-serif\;">&nbsp\;&nbsp\;|&nbsp\;&nbsp\;</span></strong><a href="https://www.census.gov/about/contact-us/social_media.html" target="_blank"><strong><span style="text-decoration:none\;text-underline:none\;"><span style="color:blue\;"><span style="font-family:calibri\,sans-serif\;">@uscensusbureau</span></span></span></strong></a></span></span>
LOCATION:Chamber Board Room One Commerce Square Gadsden\, AL 35901
UID:e.1432.398081
SEQUENCE:3
DTSTAMP:20260421T151653Z
URL:http://business.etowahchamber.org/events/details/us-census-data-training-free-398081
END:VEVENT

END:VCALENDAR
