BEGIN:VCALENDAR
VERSION:2.0
PRODID:-//ChamberMaster//Event Calendar 2.0//EN
METHOD:PUBLISH
X-PUBLISHED-TTL:P3D
REFRESH-INTERVAL:P3D
CALSCALE:GREGORIAN
BEGIN:VEVENT
DTSTART:20201018T150000Z
DTEND:20201018T160000Z
X-MICROSOFT-CDO-ALLDAYEVENT:FALSE
SUMMARY:USA Patriot Tour Stop in Gadsden
DESCRIPTION:You Are Invited to Attend the USA Patriot Tour stop in Gadsden\, AL at The Venue on Sunday\, October 18th from 10-11 AM.\n\n\n\nThis tour will be lead by 7 fire trucks and support vehicles\, symbols of some of our nations bravest men and women. Each vehicle is wrapped in a theme that reminds us of the gifts and freedoms God has bestowed upon our nation. Each vehicle will be driven by a retired firefighter\, veteran or police officer who is volunteering their time.\n\n\n\nThe themes include our flag as a symbol of our unity and blessings\, our nations powerful military\, our courageous and dependable law-enforcement\, the past heroes of our nation\, the right to protect ourselves via the second amendment\, and a truck that honors God. We currently have rallies planned in 28 cities and stop or pass through 22 states. Don't miss out on seeing our custom wrapped trucks. They are absolutely amazing. Show the world your pride in God\, Country\, Armed Forces\, Police & Fire. It's time to get out and show that there is still a lot of pride in who we are and what we stand for.
X-ALT-DESC;FMTTYPE=text/html:<span style="font-size:16px\;"><span style="font-family:arial\;"><strong>You Are Invited to Attend the USA Patriot Tour stop in Gadsden\, AL at The Venue on Sunday\, October 18th from 10-11 AM.</strong><br />\n<br />\nThis tour will be lead by 7 fire trucks and support vehicles\, symbols of some of our nations bravest men and women. Each vehicle is wrapped in a theme that reminds us of the gifts and freedoms God has bestowed upon our nation. Each vehicle will be driven by a retired firefighter\, veteran or police officer who is volunteering their time.<br />\n<br />\nThe themes include our flag as a symbol of our unity and blessings\, our nations powerful military\, our courageous and dependable law-enforcement\, the past heroes of our nation\, the right to protect ourselves via the second amendment\, and a truck that honors God. We currently have rallies planned in 28 cities and stop or pass through 22 states.&nbsp\;Don&rsquo\;t miss out on seeing our custom wrapped trucks. They are absolutely amazing. Show the world your pride in God\, Country\, Armed Forces\, Police &amp\; Fire. It&rsquo\;s time to get out and show that there is still a lot of pride in who we are and what we stand for.</span></span>
LOCATION:The Venue
UID:e.1432.403460
SEQUENCE:3
DTSTAMP:20260421T081944Z
URL:http://business.etowahchamber.org/events/details/usa-patriot-tour-stop-in-gadsden-403460
END:VEVENT

END:VCALENDAR
