BEGIN:VCALENDAR
VERSION:2.0
PRODID:-//ChamberMaster//Event Calendar 2.0//EN
METHOD:PUBLISH
X-PUBLISHED-TTL:P3D
REFRESH-INTERVAL:P3D
CALSCALE:GREGORIAN
BEGIN:VEVENT
DTSTART:20121107T193000Z
DTEND:20121107T204500Z
X-MICROSOFT-CDO-ALLDAYEVENT:FALSE
SUMMARY:Veteran's Celebration Parade
DESCRIPTION:Annual Veteran's Day Parade
X-ALT-DESC;FMTTYPE=text/html:Annual Veteran&#39\;s Day Parade
LOCATION:The parade will begin at 7th and Broad and will move down through 1st. Bleachers for veterans and family will be provided at each intersection. There will be veterans from all branches of service and all wars\, military equipment\, and the area bands playing patriotic music.
UID:e.1432.382815
SEQUENCE:3
DTSTAMP:20260423T020145Z
URL:http://business.etowahchamber.org/events/details/veteran-s-celebration-parade-11-07-2012-382815
END:VEVENT

END:VCALENDAR
