BEGIN:VCALENDAR
VERSION:2.0
PRODID:-//ChamberMaster//Event Calendar 2.0//EN
METHOD:PUBLISH
X-PUBLISHED-TTL:P3D
REFRESH-INTERVAL:P3D
CALSCALE:GREGORIAN
BEGIN:VEVENT
DTSTART:20191104T143000Z
DTEND:20191104T153000Z
X-MICROSOFT-CDO-ALLDAYEVENT:FALSE
SUMMARY:Vinyasa Yoga Flow at Yoga Aims
DESCRIPTION:
X-ALT-DESC;FMTTYPE=text/html:
LOCATION:Yoga Aims Studio
UID:e.1432.401532
SEQUENCE:3
DTSTAMP:20260420T071225Z
URL:http://business.etowahchamber.org/events/details/vinyasa-yoga-flow-at-yoga-aims-401532
END:VEVENT

END:VCALENDAR
