BEGIN:VCALENDAR
VERSION:2.0
PRODID:-//ChamberMaster//Event Calendar 2.0//EN
METHOD:PUBLISH
X-PUBLISHED-TTL:P3D
REFRESH-INTERVAL:P3D
CALSCALE:GREGORIAN
BEGIN:VEVENT
DTSTART:20140617T220000Z
DTEND:20140618T000000Z
X-MICROSOFT-CDO-ALLDAYEVENT:FALSE
SUMMARY:"Voices of Spring"
DESCRIPTION:"Voices of Spring"\, the final concert of the Gadsden Symphony Orchestra's 2013-2014 season will be this coming Tuesday\, June 17th at 6:00 p.m.  The concert will be held at the Gadsden City High School Performance Center.  It will be an inspiring and entertaining concert featuring the Gadsden Symphony Orchestra and The Gadsden All-City Elementary Singers performing with the symphony.  Doors open at 5:00\n\n \n\nThe final six violins from "The Art of the Violin" exhibit will be on display and available for purchase after the performance.  Concert tickets will be available at the door\, The Gadsden Times and may be purchased on line at Wallacehall.org.  This will be a great performance by two impressive musical organizations.\n\n \n\nThanks for your continued support. I look forward to seeing you this coming Tuesday at the concert.\n\n \n\nNorman R. Dasinger\, President\n\nGadsden Symphony Orchestra\n\nBoard of Directors
X-ALT-DESC;FMTTYPE=text/html:&ldquo\;Voices of Spring&rdquo\;\, the final concert of the Gadsden Symphony Orchestra&rsquo\;s 2013-2014 season will be this coming Tuesday\, June 17th at 6:00 p.m.&nbsp\; The concert will be held at the Gadsden City High School Performance Center.&nbsp\; It will be an inspiring and entertaining concert featuring the Gadsden Symphony Orchestra and The Gadsden All-City Elementary Singers performing with the symphony.&nbsp\; Doors open at 5:00<br />\n&nbsp\;<br />\nThe final six violins from &ldquo\;The Art of the Violin&rdquo\; exhibit will be on display and available for purchase after the performance.&nbsp\; Concert tickets will be available at the door\, The Gadsden Times and may be purchased on line at Wallacehall.org.&nbsp\; This will be a great performance by two impressive musical organizations.<br />\n&nbsp\;<br />\nThanks for your continued support. I look forward to seeing you this coming Tuesday at the concert.<br />\n&nbsp\;<br />\n<em>Norman R. Dasinger</em>\, President<br />\nGadsden Symphony Orchestra<br />\nBoard of Directors
LOCATION:Gadsden City High School Performance Center
UID:e.1432.384669
SEQUENCE:3
DTSTAMP:20260422T183252Z
URL:http://business.etowahchamber.org/events/details/voices-of-spring-06-17-2014-384669
END:VEVENT

END:VCALENDAR
