BEGIN:VCALENDAR
VERSION:2.0
PRODID:-//ChamberMaster//Event Calendar 2.0//EN
METHOD:PUBLISH
X-PUBLISHED-TTL:P3D
REFRESH-INTERVAL:P3D
CALSCALE:GREGORIAN
BEGIN:VEVENT
DTSTART;VALUE=DATE:20140927
DTEND;VALUE=DATE:20140928
TRANSP:TRANSPARENT
X-MICROSOFT-CDO-ALLDAYEVENT:TRUE
SUMMARY:Walk To End Alzheimer's
DESCRIPTION:The Alzheimer's Association Walk to End Alzheimer's  is the world's largest event to raise awareness and funds for Alzheimer's care\, support and research. Held annually in more than 650 communities nationwide\, this inspiring event calls on participants of all ages and abilities to reclaim the future for millions. Together\, we can end Alzheimer?s disease\, the nation?s sixth-leading cause of death.Walk to End Alzheimer?s unites the entire community ? family\, friends\, co-workers\, social and religious groups and more --- in a display of combined strength and dedication in the fight against this devastating disease. While there is no fee to register\, each participant is expected to fundraise in order to contribute to the cause and raise awareness. The Alzheimer's Association provides free\, easy-to-use tools and staff support to help each participant reach their fundraising goal.
X-ALT-DESC;FMTTYPE=text/html:The Alzheimer&#39\;s Association Walk to End Alzheimer&#39\;s&reg\; is the world&#39\;s largest event to raise awareness and funds for Alzheimer&#39\;s care\, support and research. Held annually in more than 650 communities nationwide\, this inspiring event calls on participants of all ages and abilities to reclaim the future for millions. Together\, we can end Alzheimer?s disease\, the nation?s sixth-leading cause of death.Walk to End Alzheimer?s unites the entire community ? family\, friends\, co-workers\, social and religious groups and more --- in a display of combined strength and dedication in the fight against this devastating disease. While there is no fee to register\, each participant is expected to fundraise in order to contribute to the cause and raise awareness. The Alzheimer&#39\;s Association provides free\, easy-to-use tools and staff support to help each participant reach their fundraising goal.
LOCATION:Oxford Lake Park\, Oxford\, AL.
UID:e.1432.384420
SEQUENCE:3
DTSTAMP:20260422T143731Z
URL:http://business.etowahchamber.org/events/details/walk-to-end-alzheimer-s-09-27-2014-384420
END:VEVENT

END:VCALENDAR
