BEGIN:VCALENDAR
VERSION:2.0
PRODID:-//ChamberMaster//Event Calendar 2.0//EN
METHOD:PUBLISH
X-PUBLISHED-TTL:P3D
REFRESH-INTERVAL:P3D
CALSCALE:GREGORIAN
BEGIN:VEVENT
DTSTART;VALUE=DATE:20150119
DTEND;VALUE=DATE:20150120
TRANSP:TRANSPARENT
X-MICROSOFT-CDO-ALLDAYEVENT:TRUE
SUMMARY:We Have A Dream!
DESCRIPTION:Celebrate MLK Jr. Day by doing random acts of kindness. Text\, Facebook\, Tweet\, Email or Call us with your random act of kindness so we can post on our Facebook all the good deeds we performed around Gadsden! YLS will have a list of ideas or come up with something on your own!
X-ALT-DESC;FMTTYPE=text/html:<span style="font-family:century\,serif\;"><span style="font-size:11.0pt\;">Celebrate MLK Jr. Day by doing random acts of kindness. Text\, Facebook\, Tweet\, Email or Call us with your random act of kindness so we can post on our Facebook all the good deeds we performed around Gadsden! YLS will have a list of ideas or come up with something on your own!</span></span>
LOCATION:
UID:e.1432.384467
SEQUENCE:3
DTSTAMP:20260422T092743Z
URL:http://business.etowahchamber.org/events/details/we-have-a-dream-01-19-2015-384467
END:VEVENT

END:VCALENDAR
