BEGIN:VCALENDAR
VERSION:2.0
PRODID:-//ChamberMaster//Event Calendar 2.0//EN
METHOD:PUBLISH
X-PUBLISHED-TTL:P3D
REFRESH-INTERVAL:P3D
CALSCALE:GREGORIAN
BEGIN:VEVENT
DTSTART:20200407T190000Z
DTEND:20200407T200000Z
X-MICROSOFT-CDO-ALLDAYEVENT:FALSE
SUMMARY:WEBINAR: Ask a Superintendent with Dr. Alan Cosby
DESCRIPTION:Join us to ask Superintendent Dr. Alan Cosby any questions you may have! \n\n\n\nAsk a Superintendent with Dr. Alan Cosby\n\nTue\, Apr 7\, 2020 2:00 PM - 3:00 PM (CDT)\n\n\n\nPlease join my meeting from your computer\, tablet or smartphone.\n\nhttps://global.gotomeeting.com/join/562671581\n\n\n\nYou can also dial in using your phone.\n\nUnited States: +1 (646) 749-3122\n\n\n\nAccess Code: 562-671-581\n\n\n\nNew to GoToMeeting? Get the app now and be ready when your first meeting starts:\n\nhttps://global.gotomeeting.com/install/562671581
X-ALT-DESC;FMTTYPE=text/html:Join us to ask Superintendent Dr. Alan Cosby any questions you may have!&nbsp\;<br />\n<br />\n<span class="inv-subject" style="color: rgb(37\, 40\, 45)\; font-family: lato-regular\, &quot\;Helvetica Neue&quot\;\, Helvetica\, Arial\, sans-serif\; font-size: 14px\;">Ask a Superintendent with Dr. Alan Cosby</span><br style="color: rgb(37\, 40\, 45)\; font-family: lato-regular\, &quot\;Helvetica Neue&quot\;\, Helvetica\, Arial\, sans-serif\; font-size: 14px\;" />\n<span class="inv-date" style="color: rgb(37\, 40\, 45)\; font-family: lato-regular\, &quot\;Helvetica Neue&quot\;\, Helvetica\, Arial\, sans-serif\; font-size: 14px\;">Tue\, Apr 7\, 2020 2:00 PM - 3:00 PM (CDT)</span><br style="color: rgb(37\, 40\, 45)\; font-family: lato-regular\, &quot\;Helvetica Neue&quot\;\, Helvetica\, Arial\, sans-serif\; font-size: 14px\;" />\n<br style="color: rgb(37\, 40\, 45)\; font-family: lato-regular\, &quot\;Helvetica Neue&quot\;\, Helvetica\, Arial\, sans-serif\; font-size: 14px\;" />\n<b style="color: rgb(37\, 40\, 45)\; font-family: lato-regular\, &quot\;Helvetica Neue&quot\;\, Helvetica\, Arial\, sans-serif\; font-size: 14px\;">Please join my meeting from your computer\, tablet or smartphone.</b><br style="color: rgb(37\, 40\, 45)\; font-family: lato-regular\, &quot\;Helvetica Neue&quot\;\, Helvetica\, Arial\, sans-serif\; font-size: 14px\;" />\n<span class="inv-meeting-url" style="color: rgb(37\, 40\, 45)\; font-family: lato-regular\, &quot\;Helvetica Neue&quot\;\, Helvetica\, Arial\, sans-serif\; font-size: 14px\;"><a href="https://global.gotomeeting.com/join/562671581" target="_blank">https://global.gotomeeting.com/join/562671581</a></span><br style="color: rgb(37\, 40\, 45)\; font-family: lato-regular\, &quot\;Helvetica Neue&quot\;\, Helvetica\, Arial\, sans-serif\; font-size: 14px\;" />\n<br style="color: rgb(37\, 40\, 45)\; font-family: lato-regular\, &quot\;Helvetica Neue&quot\;\, Helvetica\, Arial\, sans-serif\; font-size: 14px\;" />\n<b style="color: rgb(37\, 40\, 45)\; font-family: lato-regular\, &quot\;Helvetica Neue&quot\;\, Helvetica\, Arial\, sans-serif\; font-size: 14px\;">You can also dial in using your phone.</b><br style="color: rgb(37\, 40\, 45)\; font-family: lato-regular\, &quot\;Helvetica Neue&quot\;\, Helvetica\, Arial\, sans-serif\; font-size: 14px\;" />\n<span style="color: rgb(37\, 40\, 45)\; font-family: lato-regular\, &quot\;Helvetica Neue&quot\;\, Helvetica\, Arial\, sans-serif\; font-size: 14px\;">United States:&nbsp\;<a href="tel:+16467493122\,\,562671581#">+1 (646) 749-3122</a></span><br style="color: rgb(37\, 40\, 45)\; font-family: lato-regular\, &quot\;Helvetica Neue&quot\;\, Helvetica\, Arial\, sans-serif\; font-size: 14px\;" />\n<br style="color: rgb(37\, 40\, 45)\; font-family: lato-regular\, &quot\;Helvetica Neue&quot\;\, Helvetica\, Arial\, sans-serif\; font-size: 14px\;" />\n<span style="color: rgb(37\, 40\, 45)\; font-family: lato-regular\, &quot\;Helvetica Neue&quot\;\, Helvetica\, Arial\, sans-serif\; font-size: 14px\;"><b>Access Code:</b>&nbsp\;562-671-581</span><br style="color: rgb(37\, 40\, 45)\; font-family: lato-regular\, &quot\;Helvetica Neue&quot\;\, Helvetica\, Arial\, sans-serif\; font-size: 14px\;" />\n<br style="color: rgb(37\, 40\, 45)\; font-family: lato-regular\, &quot\;Helvetica Neue&quot\;\, Helvetica\, Arial\, sans-serif\; font-size: 14px\;" />\n<span style="color: rgb(37\, 40\, 45)\; font-family: lato-regular\, &quot\;Helvetica Neue&quot\;\, Helvetica\, Arial\, sans-serif\; font-size: 14px\;">New to GoToMeeting? Get the app now and be ready when your first meeting starts:<br />\n<a href="https://global.gotomeeting.com/install/562671581" target="_blank">https://global.gotomeeting.com/install/562671581</a></span>
LOCATION:
UID:e.1432.402817
SEQUENCE:3
DTSTAMP:20260419T215857Z
URL:http://business.etowahchamber.org/events/details/webinar-ask-a-superintendent-with-dr-alan-cosby-402817
END:VEVENT

END:VCALENDAR
