BEGIN:VCALENDAR
VERSION:2.0
PRODID:-//ChamberMaster//Event Calendar 2.0//EN
METHOD:PUBLISH
X-PUBLISHED-TTL:P3D
REFRESH-INTERVAL:P3D
CALSCALE:GREGORIAN
BEGIN:VEVENT
DTSTART:20200409T150000Z
DTEND:20200409T160000Z
X-MICROSOFT-CDO-ALLDAYEVENT:FALSE
SUMMARY:WEBINAR: Ask a Superintendent with Jeff Colegrove
DESCRIPTION:Join us to ask Superintendent Jeff Colegrove of Attalla City Schools any questions you may have!\n\n\n\nAsk a Superintendent with Jeff Colegrove\n\nThu\, Apr 9\, 2020 10:00 AM - 11:00 AM (CDT)\n\n\n\nPlease join my meeting from your computer\, tablet or smartphone.\n\nhttps://global.gotomeeting.com/join/387479749\n\n\n\nYou can also dial in using your phone.\n\nUnited States: +1 (872) 240-3412\n\n\n\nAccess Code: 387-479-749\n\n\n\nNew to GoToMeeting? Get the app now and be ready when your first meeting starts:\n\nhttps://global.gotomeeting.com/install/387479749
X-ALT-DESC;FMTTYPE=text/html:<span class="inv-subject" style="color: rgb(37\, 40\, 45)\; font-family: lato-regular\, &quot\;Helvetica Neue&quot\;\, Helvetica\, Arial\, sans-serif\; font-size: 14px\;">Join us to ask Superintendent Jeff Colegrove of Attalla City Schools any questions you may have!<br />\n<br />\nAsk a Superintendent with Jeff Colegrove</span><br style="color: rgb(37\, 40\, 45)\; font-family: lato-regular\, &quot\;Helvetica Neue&quot\;\, Helvetica\, Arial\, sans-serif\; font-size: 14px\;" />\n<span class="inv-date" style="color: rgb(37\, 40\, 45)\; font-family: lato-regular\, &quot\;Helvetica Neue&quot\;\, Helvetica\, Arial\, sans-serif\; font-size: 14px\;">Thu\, Apr 9\, 2020 10:00 AM - 11:00 AM (CDT)</span><br style="color: rgb(37\, 40\, 45)\; font-family: lato-regular\, &quot\;Helvetica Neue&quot\;\, Helvetica\, Arial\, sans-serif\; font-size: 14px\;" />\n<br style="color: rgb(37\, 40\, 45)\; font-family: lato-regular\, &quot\;Helvetica Neue&quot\;\, Helvetica\, Arial\, sans-serif\; font-size: 14px\;" />\n<b style="color: rgb(37\, 40\, 45)\; font-family: lato-regular\, &quot\;Helvetica Neue&quot\;\, Helvetica\, Arial\, sans-serif\; font-size: 14px\;">Please join my meeting from your computer\, tablet or smartphone.</b><br style="color: rgb(37\, 40\, 45)\; font-family: lato-regular\, &quot\;Helvetica Neue&quot\;\, Helvetica\, Arial\, sans-serif\; font-size: 14px\;" />\n<span class="inv-meeting-url" style="color: rgb(37\, 40\, 45)\; font-family: lato-regular\, &quot\;Helvetica Neue&quot\;\, Helvetica\, Arial\, sans-serif\; font-size: 14px\;"><a href="https://global.gotomeeting.com/join/387479749" target="_blank">https://global.gotomeeting.com/join/387479749</a></span><br style="color: rgb(37\, 40\, 45)\; font-family: lato-regular\, &quot\;Helvetica Neue&quot\;\, Helvetica\, Arial\, sans-serif\; font-size: 14px\;" />\n<br style="color: rgb(37\, 40\, 45)\; font-family: lato-regular\, &quot\;Helvetica Neue&quot\;\, Helvetica\, Arial\, sans-serif\; font-size: 14px\;" />\n<b style="color: rgb(37\, 40\, 45)\; font-family: lato-regular\, &quot\;Helvetica Neue&quot\;\, Helvetica\, Arial\, sans-serif\; font-size: 14px\;">You can also dial in using your phone.</b><br style="color: rgb(37\, 40\, 45)\; font-family: lato-regular\, &quot\;Helvetica Neue&quot\;\, Helvetica\, Arial\, sans-serif\; font-size: 14px\;" />\n<span style="color: rgb(37\, 40\, 45)\; font-family: lato-regular\, &quot\;Helvetica Neue&quot\;\, Helvetica\, Arial\, sans-serif\; font-size: 14px\;">United States:&nbsp\;<a href="tel:+18722403412\,\,387479749#">+1 (872) 240-3412</a></span><br style="color: rgb(37\, 40\, 45)\; font-family: lato-regular\, &quot\;Helvetica Neue&quot\;\, Helvetica\, Arial\, sans-serif\; font-size: 14px\;" />\n<br style="color: rgb(37\, 40\, 45)\; font-family: lato-regular\, &quot\;Helvetica Neue&quot\;\, Helvetica\, Arial\, sans-serif\; font-size: 14px\;" />\n<span style="color: rgb(37\, 40\, 45)\; font-family: lato-regular\, &quot\;Helvetica Neue&quot\;\, Helvetica\, Arial\, sans-serif\; font-size: 14px\;"><b>Access Code:</b>&nbsp\;387-479-749</span><br style="color: rgb(37\, 40\, 45)\; font-family: lato-regular\, &quot\;Helvetica Neue&quot\;\, Helvetica\, Arial\, sans-serif\; font-size: 14px\;" />\n<br style="color: rgb(37\, 40\, 45)\; font-family: lato-regular\, &quot\;Helvetica Neue&quot\;\, Helvetica\, Arial\, sans-serif\; font-size: 14px\;" />\n<span style="color: rgb(37\, 40\, 45)\; font-family: lato-regular\, &quot\;Helvetica Neue&quot\;\, Helvetica\, Arial\, sans-serif\; font-size: 14px\;">New to GoToMeeting? Get the app now and be ready when your first meeting starts:<br />\n<a href="https://global.gotomeeting.com/install/387479749" target="_blank">https://global.gotomeeting.com/install/387479749</a></span>
LOCATION:
UID:e.1432.402818
SEQUENCE:3
DTSTAMP:20260419T220013Z
URL:http://business.etowahchamber.org/events/details/webinar-ask-a-superintendent-with-jeff-colegrove-402818
END:VEVENT

END:VCALENDAR
