BEGIN:VCALENDAR
VERSION:2.0
PRODID:-//ChamberMaster//Event Calendar 2.0//EN
METHOD:PUBLISH
X-PUBLISHED-TTL:P3D
REFRESH-INTERVAL:P3D
CALSCALE:GREGORIAN
BEGIN:VEVENT
DTSTART:20200429T180000Z
DTEND:20200429T180000Z
X-MICROSOFT-CDO-ALLDAYEVENT:FALSE
SUMMARY:WEBINAR: Best Practices for Houses of Worship
DESCRIPTION:FEMA REGION II WEBINAR: The Importance of Planning and Best Practices for Houses of Worship\nWednesday\, April 29th\, 2020\, 1 PM   2:30 PM ET \n\n\n	Please join the Region II National Preparedness Division webinar for houses of worship and faith-based organizations with introductory remarks from the DHS Center for Faith and Opportunity Initiatives. \n	During this webinar speakers from the New Jersey Office of Homeland Security and Preparedness/Interfaith Advisory Council\, New York Disaster Interfaith Services and New Jersey Voluntary Organizations Active in Disasters will discuss the importance of emergency operations and continuity planning as well as resources each of the organizations provide to support Houses of Worship. \n	Best practices for performing essential functions and continuing their missions to serve congregants during the coronavirus (COVID-19) pandemic will be highlighted during the discussion by guest speakers from  African Methodist Episcopal Church and United Sikhs. \n\nRegistration: Register for the Best Practices for Houses of Worship Webinar. Make sure to test your Adobe Connect before the meeting. \n\nThis event will include live captioning.
X-ALT-DESC;FMTTYPE=text/html:<h4><strong><span style="color:red\;"><span style="font-family:calibri\,sans-serif\;">FEMA REGION II WEBINAR: The Importance of Planning and Best Practices for Houses of Worship</span></span></strong></h4>\n<span style="color:red\;">Wednesday\, April 29th\, 2020\, 1 PM &ndash\; 2:30 PM ET&nbsp\;</span>\n\n<ul>\n	<li><span style="color:red\;">Please join the Region II National Preparedness Division webinar for houses of worship and faith-based organizations with introductory remarks from the DHS Center for Faith and Opportunity Initiatives. </span></li>\n	<li><span style="color:red\;">During this webinar speakers from the New Jersey Office of Homeland Security and Preparedness/Interfaith Advisory Council\, New York Disaster Interfaith Services and New Jersey Voluntary Organizations Active in Disasters will discuss the importance of emergency operations and continuity planning as well as resources each of the organizations provide to support Houses of Worship. </span></li>\n	<li><span style="color:red\;">Best practices for performing essential functions and continuing their missions to serve congregants during the coronavirus (COVID-19) pandemic will be highlighted during the discussion by guest speakers from &nbsp\;African Methodist Episcopal Church and United Sikhs. </span></li>\n</ul>\n<strong><span style="color:red\;"><span style="font-family:calibri\,sans-serif\;">Registration: </span></span></strong><span style="color:red\;"><a href="https://urldefense.proofpoint.com/v2/url?u=https-3A__lnks.gd_l_eyJhbGciOiJIUzI1NiJ9.eyJidWxsZXRpbl9saW5rX2lkIjoxMDAsInVyaSI6ImJwMjpjbGljayIsImJ1bGxldGluX2lkIjoiMjAyMDA0MjcuMjA3MDUwODEiLCJ1cmwiOiJodHRwczovL2ljcGQuYWRvYmVjb25uZWN0LmNvbS9yMl9ob3djb3ZpZDE5L2V2ZW50L3JlZ2lzdHJhdGlvbi5odG1sIn0.3ydYPKu-2Dcs4iBdaLap7GNnAElEAiqPzUZ7xrQgxrMcs_br_77880514353-2Dl&amp\;d=DwMFAA&amp\;c=8K0mnSt5E4j4U_dMGxZxbA&amp\;r=v7_ab6UK-lM8TIwgKA9W2djCmr9bHfDMDMweL9-3T6p9_I5TOMBh85wNvAaLSCTe&amp\;m=QbW2qlxD2OhX_X78t8uauuYIo60hweiXvM2jf_P_uzE&amp\;s=ZO_0sdz28v3rqr12N_dDDwGptVRBysgtpABCeSDxHZM&amp\;e=" target="_blank">Register for the Best Practices for Houses of Worship Webinar</a>. Make sure to <a href="https://urldefense.proofpoint.com/v2/url?u=https-3A__lnks.gd_l_eyJhbGciOiJIUzI1NiJ9.eyJidWxsZXRpbl9saW5rX2lkIjoxMDEsInVyaSI6ImJwMjpjbGljayIsImJ1bGxldGluX2lkIjoiMjAyMDA0MjcuMjA3MDUwODEiLCJ1cmwiOiJodHRwczovL2ZlbWEuY29ubmVjdHNvbHV0aW9ucy5jb20vY29tbW9uL2hlbHAvZW4vc3VwcG9ydC9tZWV0aW5nX3Rlc3QuaHRtIn0.ENY5jFI0xT8NsMNjvjVXDSGD3e5iRdHBjCYDnm1Xku0_br_77880514353-2Dl&amp\;d=DwMFAA&amp\;c=8K0mnSt5E4j4U_dMGxZxbA&amp\;r=v7_ab6UK-lM8TIwgKA9W2djCmr9bHfDMDMweL9-3T6p9_I5TOMBh85wNvAaLSCTe&amp\;m=QbW2qlxD2OhX_X78t8uauuYIo60hweiXvM2jf_P_uzE&amp\;s=gDXtLSybYphw0JzMX64zmsX9MKUAg4N-YuSQg9p8B98&amp\;e=" target="_blank">test your Adobe Connect</a> before the meeting. </span><br />\n<span style="color:red\;">This event will include live captioning.</span>
LOCATION:
UID:e.1432.402873
SEQUENCE:3
DTSTAMP:20260419T220249Z
URL:http://business.etowahchamber.org/events/details/webinar-best-practices-for-houses-of-worship-402873
END:VEVENT

END:VCALENDAR
