BEGIN:VCALENDAR
VERSION:2.0
PRODID:-//ChamberMaster//Event Calendar 2.0//EN
METHOD:PUBLISH
X-PUBLISHED-TTL:P3D
REFRESH-INTERVAL:P3D
CALSCALE:GREGORIAN
BEGIN:VEVENT
DTSTART:20200403T160000Z
DTEND:20200403T170000Z
X-MICROSOFT-CDO-ALLDAYEVENT:FALSE
SUMMARY:WEBINAR: Business Loan and Grant Assistance Update
DESCRIPTION:The US Small Business Association's Paycheck Protection Program becomes active on Friday\, April 3\, 2020. \n\n\n\nWe've worked to pull together a quick update for our local business community about the program\, which is a forgivable loan when used for certain expenses and certain criteria are met. This program is available to businesses\, 1099 contractors\, and certain non-profit organizations with fewer than 500 employees. \n\n\n\nOther SBA programs will also be briefly discussed\, especially in the area of how they relate to the Paycheck Protection Program. \n\n\n\nAll businesses are invited to join us for more information and the most current updates we have on the Paycheck Protection Program and other business programs on Friday\, April 3\, 2020 at 11 am. \n\n\n\nWe are in this together! We'll get through this together!\n\n\n\nBusiness Loan and Grant Assistance Update\n\nFri\, Apr 3\, 2020 11:00 AM - 12:30 PM (CDT)\n\n\n\nPlease join my meeting from your computer\, tablet or smartphone.  \n\nhttps://global.gotomeeting.com/join/480679021 \n\n\n\nYou can also dial in using your phone. \n\nUnited States: +1 (312) 757-3121 \n\n\n\nAccess Code: 480-679-021 \n\n\n\nNew to GoToMeeting? Get the app now and be ready when your first meeting starts:\n\nhttps://global.gotomeeting.com/install/480679021
X-ALT-DESC;FMTTYPE=text/html:The US Small Business Association&#39\;s Paycheck Protection Program becomes active on Friday\, April 3\, 2020.&nbsp\;<br />\n<br />\nWe&#39\;ve worked to pull together a quick update for our local business community about the program\, which is a forgivable loan when used for certain expenses and certain criteria are met. This program is available to businesses\, 1099 contractors\, and certain non-profit organizations with fewer than 500 employees.&nbsp\;<br />\n<br />\nOther SBA programs will also be briefly discussed\, especially in the area of how they relate to the Paycheck Protection Program.&nbsp\;<br />\n<br />\nAll businesses are invited to join us for more information and the most current updates we have on the Paycheck Protection Program and other business programs on Friday\, April 3\, 2020 at 11 am.&nbsp\;<br />\n<br />\nWe are in this together! We&#39\;ll get through this together!<br />\n<br />\n<span><span class="inv-subject">Business Loan and Grant Assistance Update</span><br />\n<span class="inv-date">Fri\, Apr 3\, 2020 11:00 AM - 12:30 PM (CDT)</span><br />\n<br />\n<b><span>Please join my meeting from your computer\, tablet or smartphone. </span> </b><br />\n<span class="inv-meeting-url"><a href="https://global.gotomeeting.com/join/480679021" target="_blank">https://global.gotomeeting.com/join/480679021</a> </span><br />\n<br />\n<b><span>You can also dial in using your phone.</span> </b><br />\n<span>United States: <a href="tel:+13127573121\,\,480679021#">+1 (312) 757-3121</a> </span><br />\n<br />\n<span><b>Access Code:</b> <span>480-679-021</span> </span><br />\n<br />\n<span>New to GoToMeeting? Get the app now and be ready when your first meeting starts:<br />\n<a href="https://global.gotomeeting.com/install/480679021" target="_blank">https://global.gotomeeting.com/install/480679021</a> </span> </span><br />\n<br />\n<br />\n&nbsp\;
LOCATION:online only
UID:e.1432.402816
SEQUENCE:3
DTSTAMP:20260419T220218Z
URL:http://business.etowahchamber.org/events/details/webinar-business-loan-and-grant-assistance-update-402816
END:VEVENT

END:VCALENDAR
