BEGIN:VCALENDAR
VERSION:2.0
PRODID:-//ChamberMaster//Event Calendar 2.0//EN
METHOD:PUBLISH
X-PUBLISHED-TTL:P3D
REFRESH-INTERVAL:P3D
CALSCALE:GREGORIAN
BEGIN:VEVENT
DTSTART:20200417T150000Z
DTEND:20200417T160000Z
X-MICROSOFT-CDO-ALLDAYEVENT:FALSE
SUMMARY:WEBINAR: Community Activities to Lift the Spirit
DESCRIPTION:Who needs a FEEL GOOD FRIDAY?\n\n\n\nCommunity Activities to Lift the Spirit\n\n\n\nJoin the Gadsden Public Library for a fun-filled session on how communities can come together\, while having to stay apart. \n\n\n\nLearn about virtual resources\, Governor Ivey's Ribbons of Hope program\, and social games\, as well as the many offerings available online through the Gadsden Public Library. \n\n\n\nPresented by Jillian Reeves\, Gadsden Public Library\, and hosted by The Chamber. \n\n\n\nNew Meeting\n\nFri\, Apr 17\, 2020 10:00 AM - 11:00 AM (CDT)\n\n\n\nPlease join my meeting from your computer\, tablet or smartphone.  \n\nhttps://www.gotomeet.me/EtowahChamber/liftthespirit \n\n\n\nYou can also dial in using your phone. \n\nUnited States: +1 (408) 650-3123 \n\n\n\nAccess Code: 562-205-317 \n\n\n\nNew to GoToMeeting? Get the app now and be ready when your first meeting starts:\n\nhttps://global.gotomeeting.com/install/562205317
X-ALT-DESC;FMTTYPE=text/html:<span style="font-family:comic sans ms\;"><span style="font-size:26px\;"><strong>Who needs a FEEL GOOD FRIDAY?</strong></span><br />\n<br />\n<span style="font-size:20px\;"><strong>Community Activities to Lift the Spirit</strong></span><br />\n<br />\nJoin the Gadsden Public Library for a fun-filled session on how communities can come together\, while having to stay apart.&nbsp\;<br />\n<br />\nLearn about virtual resources\, Governor Ivey&#39\;s Ribbons of Hope program\, and social games\, as well as the many offerings available online through the Gadsden Public Library.&nbsp\;<br />\n<br />\nPresented by Jillian Reeves\, Gadsden Public Library\, and hosted by The Chamber.&nbsp\;</span><br />\n<br />\n<span><span class="inv-subject">New Meeting</span><br />\n<span class="inv-date">Fri\, Apr 17\, 2020 10:00 AM - 11:00 AM (CDT)</span><br />\n<br />\n<b><span>Please join my meeting from your computer\, tablet or smartphone. </span> </b><br />\n<span class="inv-meeting-url"><a href="https://www.gotomeet.me/EtowahChamber/liftthespirit" target="_blank">https://www.gotomeet.me/EtowahChamber/liftthespirit</a> </span><br />\n<br />\n<b><span>You can also dial in using your phone.</span> </b><br />\n<span>United States: <a href="tel:+14086503123\,\,562205317#">+1 (408) 650-3123</a> </span><br />\n<br />\n<span><b>Access Code:</b> <span>562-205-317</span> </span><br />\n<br />\n<span>New to GoToMeeting? Get the app now and be ready when your first meeting starts:<br />\n<a href="https://global.gotomeeting.com/install/562205317" target="_blank">https://global.gotomeeting.com/install/562205317</a> </span> </span><br />\n&nbsp\;
LOCATION:This event is offered as an online webinar.
UID:e.1432.402833
SEQUENCE:3
DTSTAMP:20260419T220309Z
URL:http://business.etowahchamber.org/events/details/webinar-community-activities-to-lift-the-spirit-402833
END:VEVENT

END:VCALENDAR
