BEGIN:VCALENDAR
VERSION:2.0
PRODID:-//ChamberMaster//Event Calendar 2.0//EN
METHOD:PUBLISH
X-PUBLISHED-TTL:P3D
REFRESH-INTERVAL:P3D
CALSCALE:GREGORIAN
BEGIN:VEVENT
DTSTART:20200618T150000Z
DTEND:20200618T160000Z
X-MICROSOFT-CDO-ALLDAYEVENT:FALSE
SUMMARY:WEBINAR: Community Conversations- Craig Scott\, Gadsden Public Library
DESCRIPTION:Log on to a webinar to learn about how the Gadsden Public Library has continued to serve the community during the COVID-19 pandemic\, their plans for phased reopening at their multiple branches\, & ask questions you may have related to COVID-19 with our special guest: Gadsden Public Library Director\, Craig Scott\n\n\n\nPlease join my meeting from your computer\, tablet or smartphone.\n\nhttps://www.gotomeet.me/EtowahChamber/community-conversations-craig-scott\n\n\n\nYou can also dial in using your phone.\n\nUnited States: +1 (646) 749-3122\n\nAccess Code: 132-301-373\n\n\n\nNew to GoToMeeting? Get the app now and be ready when your first meeting starts:\n\nhttps://global.gotomeeting.com/install/132301373
X-ALT-DESC;FMTTYPE=text/html:<span style="font-family:arial\;"><span style="font-size:16px\;">Log on to a webinar to learn about how the Gadsden Public Library has continued to serve the community during the COVID-19 pandemic\, their plans for phased reopening at their multiple branches\, &amp\; ask questions you may have related to COVID-19 with our special guest:&nbsp\;</span></span><strong style="font-family: arial\; font-size: 16px\;"><span style="font-family:arial\;"><span style="font-size:16px\;">Gadsden Public Library Director\, Craig Scott</span></span></strong><br />\n<br />\n<span style="font-size:16px\;"><span style="font-family:arial\;"><b font-size:="" helvetica="" style="color: rgb(37\, 40\, 45)\; font-family: lato-regular\, ">Please join my meeting from your computer\, tablet or smartphone.</b><br font-size:="" helvetica="" style="color: rgb(37\, 40\, 45)\; font-family: lato-regular\, " />\n<strong><span class="inv-meeting-url"><a href="https://www.gotomeet.me/EtowahChamber/community-conversations-craig-scott" target="_blank"><span style="color:#0000FF\;">https://www.gotomeet.me/EtowahChamber/community-conversations-craig-scott</span></a></span></strong><br font-size:="" helvetica="" style="color: rgb(37\, 40\, 45)\; font-family: lato-regular\, " />\n<br font-size:="" helvetica="" style="color: rgb(37\, 40\, 45)\; font-family: lato-regular\, " />\n<b font-size:="" helvetica="" style="color: rgb(37\, 40\, 45)\; font-family: lato-regular\, ">You can also dial in using your phone.</b><br font-size:="" helvetica="" style="color: rgb(37\, 40\, 45)\; font-family: lato-regular\, " />\n<span style="color: rgb(37\, 40\, 45)\;">United States:&nbsp\;</span><strong><a href="tel:+16467493122\,\,132301373#"><span style="color:#0000FF\;">+1 (646) 749-3122</span></a></strong><br font-size:="" helvetica="" style="color: rgb(37\, 40\, 45)\; font-family: lato-regular\, " />\n<span style="color: rgb(37\, 40\, 45)\;"><b>Access Code:</b>&nbsp\;132-301-373</span><br font-size:="" helvetica="" style="color: rgb(37\, 40\, 45)\; font-family: lato-regular\, " />\n<br font-size:="" helvetica="" style="color: rgb(37\, 40\, 45)\; font-family: lato-regular\, " />\n<span style="color: rgb(37\, 40\, 45)\;">New to GoToMeeting? Get the app now and be ready when your first meeting starts:</span><br />\n<strong><a href="https://global.gotomeeting.com/install/132301373" target="_blank"><span style="color:#0000FF\;">https://global.gotomeeting.com/install/132301373</span></a></strong></span></span>
LOCATION:Online Only
UID:e.1432.402922
SEQUENCE:3
DTSTAMP:20260419T185847Z
URL:http://business.etowahchamber.org/events/details/webinar-community-conversations-craig-scott-gadsden-public-library-402922
END:VEVENT

END:VCALENDAR
