BEGIN:VCALENDAR
VERSION:2.0
PRODID:-//ChamberMaster//Event Calendar 2.0//EN
METHOD:PUBLISH
X-PUBLISHED-TTL:P3D
REFRESH-INTERVAL:P3D
CALSCALE:GREGORIAN
BEGIN:VEVENT
DTSTART:20200924T150000Z
DTEND:20200924T160000Z
X-MICROSOFT-CDO-ALLDAYEVENT:FALSE
SUMMARY:WEBINAR: Community Conversations- How to Attract & Retain Customers with BBB
DESCRIPTION:The Chamber is pleased to host a webinar in partnership with the Better Business Bureau(BBB) of Central & South Alabama with special guest Monde Donaldson\, Vice President BBB Educational Foundation.\n\n\n\nDescription: How to Attract and Retain Customers will focus on the Five Gestures of Trust. In today's marketplace\, the consumer experience can make or break a business. The Better Business Bureau Serving Central and South Alabama will offer specific actions you can take to build the reputation of your business in the community & strengthen your customer base. Click Here to find out more about the BBB before the webinar.\n\n\n\nCan't tune in live? Click Here for a List of Recorded Webinars to catch up.\n\n\n\nPlease join my meeting from your computer\, tablet or smartphone.\n\nhttps://www.gotomeet.me/EtowahChamber/september-community-conversations\n\n\n\nYou can also dial in using your phone.\n\nUnited States: +1 (571) 317-3122\n\nAccess Code: 709-404-965\n\n\n\nNew to GoToMeeting? Get the app now and be ready when your first meeting starts: https://global.gotomeeting.com/install/709404965
X-ALT-DESC;FMTTYPE=text/html:<span style="font-family: arial\; font-size: 16px\;">The Chamber is pleased to host&nbsp\;</span><span style="font-size:16px\;"><span style="font-family:arial\;"><span style="color: rgb(43\, 39\, 44)\;">a webinar in partnership with the Better Business Bureau(BBB) of Central &amp\; South Alabama with special guest&nbsp\;<strong>Monde Donaldson\,&nbsp\;</strong></span><strong>Vice President BBB Educational Foundation.<br />\n<br />\nDescription:&nbsp\;</strong>How to Attract and Retain Customers will focus on the Five Gestures of Trust. In today&#39\;s marketplace\, the consumer experience can make or break a business. The Better Business Bureau Serving Central and South Alabama will offer specific actions you can take to build the reputation of your business in the community &amp\;&nbsp\;strengthen your customer base</span></span><span style="font-size:16px\;"><span style="font-family:arial\;">.&nbsp\;<strong><a href="https://www.bbb.org/about-bbb"><span style="color:#0000FF\;">Click Here</span></a> </strong>to find out more about the BBB before the webinar.<br />\n<br />\nCan&#39\;t tune in live? <strong><a href="http://www.etowahchamber.org/recordedwebinars/"><span style="color:#0000FF\;">Click Here for a List of Recorded Webinars</span></a></strong> to catch up.</span></span><br />\n<br font-size:="" helvetica="" style="color: rgb(37\, 40\, 45)\; font-family: lato-regular\, " />\n<span style="font-size:16px\;"><span style="font-family:arial\;"><span style="color: rgb(37\, 40\, 45)\;"><b>Please join my meeting from your computer\, tablet or smartphone.</b></span><br style="color: rgb(37\, 40\, 45)\; font-family: lato-regular\, &quot\;Helvetica Neue&quot\;\, Helvetica\, Arial\, sans-serif\; font-size: 14px\;" />\n<strong><span class="inv-meeting-url"><a href="https://www.gotomeet.me/EtowahChamber/september-community-conversations" target="_blank"><span style="color:#0000FF\;">https://www.gotomeet.me/EtowahChamber/september-community-conversations</span></a></span></strong><br style="color: rgb(37\, 40\, 45)\; font-family: lato-regular\, &quot\;Helvetica Neue&quot\;\, Helvetica\, Arial\, sans-serif\; font-size: 14px\;" />\n<br style="color: rgb(37\, 40\, 45)\; font-family: lato-regular\, &quot\;Helvetica Neue&quot\;\, Helvetica\, Arial\, sans-serif\; font-size: 14px\;" />\n<span style="color: rgb(37\, 40\, 45)\;"><b>You can also dial in using your phone.</b></span><br style="color: rgb(37\, 40\, 45)\; font-family: lato-regular\, &quot\;Helvetica Neue&quot\;\, Helvetica\, Arial\, sans-serif\; font-size: 14px\;" />\n<span style="color: rgb(37\, 40\, 45)\;">United States:&nbsp\;</span><strong><a href="tel:+15713173122\,\,709404965#"><span style="color:#0000FF\;">+1 (571) 317-3122</span></a></strong><br style="color: rgb(37\, 40\, 45)\; font-family: lato-regular\, &quot\;Helvetica Neue&quot\;\, Helvetica\, Arial\, sans-serif\; font-size: 14px\;" />\n<span style="color: rgb(37\, 40\, 45)\;"><b>Access Code:</b>&nbsp\;709-404-965</span><br style="color: rgb(37\, 40\, 45)\; font-family: lato-regular\, &quot\;Helvetica Neue&quot\;\, Helvetica\, Arial\, sans-serif\; font-size: 14px\;" />\n<br style="color: rgb(37\, 40\, 45)\; font-family: lato-regular\, &quot\;Helvetica Neue&quot\;\, Helvetica\, Arial\, sans-serif\; font-size: 14px\;" />\n<span style="color: rgb(37\, 40\, 45)\;">New to GoToMeeting? Get the app now and be ready when your first meeting starts:&nbsp\;</span><strong><a href="https://global.gotomeeting.com/install/709404965" target="_blank"><span style="color:#0000FF\;">https://global.gotomeeting.com/install/709404965</span></a></strong></span></span>
LOCATION:Online Only
UID:e.1432.403282
SEQUENCE:3
DTSTAMP:20260421T093638Z
URL:http://business.etowahchamber.org/events/details/webinar-community-conversations-how-to-attract-retain-customers-with-bbb-403282
END:VEVENT

END:VCALENDAR
