BEGIN:VCALENDAR
VERSION:2.0
PRODID:-//ChamberMaster//Event Calendar 2.0//EN
METHOD:PUBLISH
X-PUBLISHED-TTL:P3D
REFRESH-INTERVAL:P3D
CALSCALE:GREGORIAN
BEGIN:VEVENT
DTSTART:20200716T150000Z
DTEND:20200716T160000Z
X-MICROSOFT-CDO-ALLDAYEVENT:FALSE
SUMMARY:WEBINAR: Community Conversations- "Products Emerging in the Age of COVID"
DESCRIPTION:Log on to a webinar to learn about new products emerging & being implemented during the COVID-19 pandemic with a panel of local special guests:\n\n	Khris Anderson\, American Red Cross\n	\n		 COVID-19 Antibody Testing\n	\n	\n	Scott Lee\, LST\n	\n		 Temperature Screening Thermographic Bullet Camera\n	\n	\n	Theresa Smith\, ServPro of Anniston/Gadsden\n	\n		 Certified SERVPRO Cleaned Program\n	\n	\n\n\n\nPlease join my meeting from your computer\, tablet or smartphone.\n\nhttps://www.gotomeet.me/EtowahChamber/july-2020-community-conversations\n\n\n\nYou can also dial in using your phone.\n\nUnited States: +1 (646) 749-3122\n\nAccess Code: 833-504-533\n\n\n\nNew to GoToMeeting? Get the app now and be ready when your first meeting starts:\n\nhttps://global.gotomeeting.com/install/833504533
X-ALT-DESC;FMTTYPE=text/html:<span style="font-size:16px\;"><span style="font-family:arial\;">Log on to a webinar to learn about new products emerging &amp\; being implemented during the COVID-19 pandemic with a panel of local special guests:</span></span>\n<ul>\n	<li><span style="font-size:16px\;"><span style="font-family:arial\;">Khris Anderson\, <strong><a href="https://www.redcross.org/local/al-ms/about-us/locations/north-alabama.html"><span style="color:#0000FF\;">American Red Cross</span></a></strong></span></span>\n	<ul>\n		<li><span style="font-size:16px\;"><span style="font-family:arial\;"><strong><span style="color:#0000FF\;">&#8203\;</span></strong></span></span><span style="font-family: arial\; font-size: 16px\;">COVID-19 Antibody Testing</span></li>\n	</ul>\n	</li>\n	<li><span style="font-size:16px\;"><span style="font-family:arial\;">Scott Lee\, <strong><a href="http://lst.com/Home.aspx"><span style="color:#0000FF\;">LST</span></a></strong></span></span>\n	<ul>\n		<li><span style="font-size:16px\;"><span style="font-family:arial\;"><strong><span style="color:#0000FF\;">&#8203\;</span></strong></span></span><span style="font-family: arial\; font-size: 16px\;">Temperature Screening&nbsp\;Thermographic Bullet Camera</span></li>\n	</ul>\n	</li>\n	<li><span style="font-size:16px\;"><span style="font-family:arial\;">Theresa Smith\, <strong><a href="https://www.servprogadsden.com/"><span style="color:#0000FF\;">ServPro of Anniston/Gadsden</span></a></strong></span></span>\n	<ul>\n		<li><span style="font-size:16px\;"><span style="font-family:arial\;"><strong><span style="color:#0000FF\;">&#8203\;</span></strong></span></span><span style="font-family: arial\; font-size: 16px\;">Certified SERVPRO&nbsp\;Cleaned Program</span></li>\n	</ul>\n	</li>\n</ul>\n<br />\n<span style="font-size:16px\;"><span style="font-family:arial\;"><strong>Please join my meeting from your computer\, tablet or smartphone.</strong><br style="color: rgb(37\, 40\, 45)\; font-family: lato-regular\, &quot\;Helvetica Neue&quot\;\, Helvetica\, Arial\, sans-serif\; font-size: 14px\;" />\n<strong style="font-family: arial\; font-size: 16px\;"><span class="inv-meeting-url"><a href="https://www.gotomeet.me/EtowahChamber/july-2020-community-conversations" target="_blank"><span style="color:#0000FF\;">https://www.gotomeet.me/EtowahChamber/july-2020-community-conversations</span></a></span></strong><br style="color: rgb(37\, 40\, 45)\; font-family: lato-regular\, &quot\;Helvetica Neue&quot\;\, Helvetica\, Arial\, sans-serif\; font-size: 14px\;" />\n<br style="color: rgb(37\, 40\, 45)\; font-family: lato-regular\, &quot\;Helvetica Neue&quot\;\, Helvetica\, Arial\, sans-serif\; font-size: 14px\;" />\n<b style="font-family: lato-regular\, &quot\;Helvetica Neue&quot\;\, Helvetica\, Arial\, sans-serif\; font-size: 14px\; color: rgb(37\, 40\, 45)\;">You can also dial in using your phone.</b><br style="color: rgb(37\, 40\, 45)\; font-family: lato-regular\, &quot\;Helvetica Neue&quot\;\, Helvetica\, Arial\, sans-serif\; font-size: 14px\;" />\n<span style="color: rgb(37\, 40\, 45)\;">United States:&nbsp\;</span><strong><a href="tel:+16467493122\,\,833504533#"><span style="color:#0000FF\;">+1 (646) 749-3122</span></a></strong><br style="color: rgb(37\, 40\, 45)\; font-family: lato-regular\, &quot\;Helvetica Neue&quot\;\, Helvetica\, Arial\, sans-serif\; font-size: 14px\;" />\n<span style="color: rgb(37\, 40\, 45)\;"><b>Access Code:</b>&nbsp\;833-504-533</span><br style="color: rgb(37\, 40\, 45)\; font-family: lato-regular\, &quot\;Helvetica Neue&quot\;\, Helvetica\, Arial\, sans-serif\; font-size: 14px\;" />\n<br style="color: rgb(37\, 40\, 45)\; font-family: lato-regular\, &quot\;Helvetica Neue&quot\;\, Helvetica\, Arial\, sans-serif\; font-size: 14px\;" />\n<span style="color: rgb(37\, 40\, 45)\;">New to GoToMeeting? Get the app now and be ready when your first meeting starts:</span><br />\n<strong><a href="https://global.gotomeeting.com/install/833504533" target="_blank"><span style="color:#0000FF\;">https://global.gotomeeting.com/install/833504533</span></a></strong></span></span>
LOCATION:Online Only
UID:e.1432.403213
SEQUENCE:3
DTSTAMP:20260419T183931Z
URL:http://business.etowahchamber.org/events/details/webinar-community-conversations-products-emerging-in-the-age-of-covid-403213
END:VEVENT

END:VCALENDAR
