BEGIN:VCALENDAR
VERSION:2.0
PRODID:-//ChamberMaster//Event Calendar 2.0//EN
METHOD:PUBLISH
X-PUBLISHED-TTL:P3D
REFRESH-INTERVAL:P3D
CALSCALE:GREGORIAN
BEGIN:VEVENT
DTSTART:20200327T150000Z
DTEND:20200327T160000Z
X-MICROSOFT-CDO-ALLDAYEVENT:FALSE
SUMMARY:WEBINAR: COVID-19 Unemployment & New Emergency Paid Sick & Family Leave Act
DESCRIPTION:COVID-19 Unemployment Eligibility\n\nThis webinar will also cover the new emergency paid sick leave and family leave act\, both applicable to mid-sized and small employers\, both become effective April 1. \n\nFor employers and employees\n\n\n\nYou are invited to join a webinar update designed to update small businesses on issues of specific interest as we work through this season of social distancing as a result of the COVID-19 pandemic. We are partnering with Michael Perkins of Frontline HR Solutions to bring you this webinar. \n\n\n\nThis webinar will be recorded and posted to our library of webinars and other assistance information on www.etowahchamber.org/covid19 for those that can not attend the live event. \n\n\n\nThis webinar is open to members and non-members. We feel during this time it is essential that we share all information to which we have access to all businesses in our community. Feel free to forward and share as you see necessary. \n\n\n\nCOVID-19 Unemployment Update\n\nFri\, Mar 27\, 2020 10:00 AM - 11:30 AM (CDT)\n\n\n\nPlease join my meeting from your computer\, tablet or smartphone.  \n\nhttps://global.gotomeeting.com/join/222911789 \n\n\n\nYou can also dial in using your phone. \n\nUnited States: +1 (646) 749-3112 \n\n\n\nAccess Code: 222-911-789 \n\n\n\nNew to GoToMeeting? Get the app now and be ready when your first meeting starts:\n\nhttps://global.gotomeeting.com/install/222911789
X-ALT-DESC;FMTTYPE=text/html:COVID-19 Unemployment Eligibility<br />\nThis webinar will also cover the new emergency paid sick leave and family leave act\, both applicable to mid-sized and small employers\, both become effective April 1.&nbsp\;<br />\nFor employers and employees<br />\n<br />\nYou are invited to join a webinar update designed to update small businesses on issues of specific interest as we work through this season of social distancing as a result of the COVID-19 pandemic. We are partnering with Michael Perkins of Frontline HR Solutions to bring you this webinar.&nbsp\;<br />\n<br />\nThis webinar will be recorded and posted to our library of webinars and other assistance information on www.etowahchamber.org/covid19 for those that can not attend the live event.&nbsp\;<br />\n<br />\nThis webinar is open to members and non-members. We feel during this time it is essential that we share all information to which we have access to all businesses in our community. Feel free to forward and share as you see necessary.&nbsp\;<br />\n<br />\n<span><span class="inv-subject">COVID-19 Unemployment Update</span><br />\n<span class="inv-date">Fri\, Mar 27\, 2020 10:00 AM - 11:30 AM (CDT)</span><br />\n<br />\n<b><span>Please join my meeting from your computer\, tablet or smartphone. </span> </b><br />\n<span class="inv-meeting-url"><a href="https://global.gotomeeting.com/join/222911789" target="_blank">https://global.gotomeeting.com/join/222911789</a> </span><br />\n<br />\n<b><span>You can also dial in using your phone.</span> </b><br />\n<span>United States: <a href="tel:+16467493112\,\,222911789#">+1 (646) 749-3112</a> </span><br />\n<br />\n<span><b>Access Code:</b> <span>222-911-789</span> </span><br />\n<br />\n<span>New to GoToMeeting? Get the app now and be ready when your first meeting starts:<br />\n<a href="https://global.gotomeeting.com/install/222911789" target="_blank">https://global.gotomeeting.com/install/222911789</a> </span> </span><br />\n&nbsp\;
LOCATION:online only
UID:e.1432.402800
SEQUENCE:3
DTSTAMP:20260419T233614Z
URL:http://business.etowahchamber.org/events/details/webinar-covid-19-unemployment-new-emergency-paid-sick-family-leave-act-402800
END:VEVENT

END:VCALENDAR
