BEGIN:VCALENDAR
VERSION:2.0
PRODID:-//ChamberMaster//Event Calendar 2.0//EN
METHOD:PUBLISH
X-PUBLISHED-TTL:P3D
REFRESH-INTERVAL:P3D
CALSCALE:GREGORIAN
BEGIN:VEVENT
DTSTART:20200423T160000Z
DTEND:20200423T170000Z
X-MICROSOFT-CDO-ALLDAYEVENT:FALSE
SUMMARY:WEBINAR: I Have a SBA PPP Funds - Now What?
DESCRIPTION:Title:\n						I have PPP funds - Now What?\n					\n					\n						Date:\n						4/23/2020 11AM\n					\n					\n						Fee:\n						No Fee\n					\n					\n						Location:\n						Webinar AL 35401\n					\n					\n						Description:\n						\n						We will be discussing the Paycheck Protection Program: basic operating guidelines\, best practices\, and suggestions for maximizing the forgivable portion of your loan.\n\n						We will begin with any news / updates on the Paycheck Protection Program.  \n\n						Speakers:\n\n						\n							Tom Todt\, District Director - Alabama\, US Small Business Administration\n							Mark Richenderfer\, VP Investor Relations\, Birmingham Business Alliance\n							Alabama SBDC Network:\n							\n								Suzanne Darden\n								Heather Wright\n								Emily Moore\n								Lindsay Bridges\n								Michael Brooks\n							\n							\n						\n\n						Maximum capacity is 1\,000.\n\n						All participants will be muted\; please submit questions via the Q&A box.  Webinar is presented in a secure Zoom webinar room.  \n\n						How to register:\n\n						\n							If you have participated in a recent SBDC webinar\, click SignUp - and then enter your email address & password.\n							If you have never worked with the SBDC\, click SignUp - and complete the registration form.  \n						\n\n						There is no charge to participate in this webinar. \n\n						The Alabama SBDC provides no-cost\, confidential\, and unbiased technical assistance to Alabama's entrepreneurs and small business community.\n\n						Webinar link will be sent twenty minutes prior to the start time.    Read that again.\n\n						Registration deadline is 10:25AM on 4/23.\n\n						\n\n						Funded in part through a cooperative agreement with the US Small Business Administration.  Hosted by the University of Alabama.\n						\n					\n				\n			\n			\n			Click here to view the event
X-ALT-DESC;FMTTYPE=text/html:<table style="color: rgb(0\, 0\, 0)\; font-family: Lato\, Arial\, Helvetica\, sans-serif\; font-size: 16px\;">\n	<tbody>\n		<tr>\n			<td>\n			<div style="font-size: 18px\; color: rgb(153\, 153\, 153)\;">\n			<div style="padding-left: 20px\;">\n			<table border="0" cellpadding="2" cellspacing="0">\n				<tbody>\n					<tr>\n						<td width="80">Title:</td>\n						<td>I have PPP funds - Now What?</td>\n					</tr>\n					<tr>\n						<td>Date:</td>\n						<td>4/23/2020 11AM</td>\n					</tr>\n					<tr>\n						<td>Fee:</td>\n						<td>No Fee</td>\n					</tr>\n					<tr>\n						<td valign="top">Location:</td>\n						<td>Webinar AL 35401</td>\n					</tr>\n					<tr>\n						<td valign="top">Description:</td>\n						<td>\n						<p style="margin-top: 0px\; margin-bottom: 10px\; line-height: 26.1px\;">We will be discussing the Paycheck Protection Program: basic operating guidelines\, best practices\, and suggestions for maximizing the forgivable portion of your loan.</p>\n\n						<p style="margin-top: 0px\; margin-bottom: 10px\; line-height: 26.1px\;">We will begin with any news / updates on the Paycheck Protection Program.&nbsp\;&nbsp\;<br />\n						<strong>Speakers:</strong></p>\n\n						<ul style="margin-top: 3px\;">\n							<li style="margin-top: 0px\; margin-left: 0px\; line-height: 28.8px\;">Tom Todt\, District Director - Alabama\, US Small Business Administration</li>\n							<li style="margin-top: 0px\; margin-left: 0px\; line-height: 28.8px\;">Mark Richenderfer\, VP Investor Relations\, Birmingham Business Alliance</li>\n							<li style="margin-top: 0px\; margin-left: 0px\; line-height: 28.8px\;">Alabama SBDC Network:\n							<ul style="margin-top: 3px\;">\n								<li style="margin-top: 0px\; margin-left: 0px\; line-height: 28.8px\;">Suzanne Darden</li>\n								<li style="margin-top: 0px\; margin-left: 0px\; line-height: 28.8px\;">Heather Wright</li>\n								<li style="margin-top: 0px\; margin-left: 0px\; line-height: 28.8px\;">Emily Moore</li>\n								<li style="margin-top: 0px\; margin-left: 0px\; line-height: 28.8px\;">Lindsay Bridges</li>\n								<li style="margin-top: 0px\; margin-left: 0px\; line-height: 28.8px\;">Michael Brooks</li>\n							</ul>\n							</li>\n						</ul>\n\n						<p style="margin-top: 0px\; margin-bottom: 10px\; line-height: 26.1px\;">Maximum capacity is 1\,000.<br />\n						All participants will be muted\; please submit questions via the Q&amp\;A box.&nbsp\; Webinar is presented in a secure Zoom webinar room.&nbsp\;&nbsp\;</p>\n\n						<p style="margin-top: 0px\; margin-bottom: 10px\; line-height: 26.1px\;"><span style="font-size: 14pt\;">How to register:</span></p>\n\n						<ul style="margin-top: 3px\;">\n							<li style="margin-top: 0px\; margin-left: 0px\; line-height: 28.8px\;">If you have participated in a recent SBDC webinar\,&nbsp\;<a href="https://asbdc.ecenterdirect.com/events/signup/8523" style="color: rgb(45\, 119\, 179)\; text-decoration-line: none\;">click SignUp - and&nbsp\;<em>then</em>&nbsp\;enter your email address &amp\; password</a>.</li>\n							<li style="margin-top: 0px\; margin-left: 0px\; line-height: 28.8px\;">If you have never worked with the SBDC\, click&nbsp\;<a href="https://asbdc.ecenterdirect.com/events/signup/8523" style="color: rgb(45\, 119\, 179)\; text-decoration-line: none\;">SignUp&nbsp\;- and complete the registration form</a>.&nbsp\;&nbsp\;</li>\n						</ul>\n\n						<p style="margin-top: 0px\; margin-bottom: 10px\; line-height: 26.1px\;">There is no charge to participate in this webinar.&nbsp\;<br />\n						The Alabama SBDC provides no-cost\, confidential\, and unbiased technical assistance to Alabama&#39\;s entrepreneurs and small business community.</p>\n\n						<p style="margin-top: 0px\; margin-bottom: 10px\; line-height: 26.1px\;"><strong>Webinar link will be sent twenty minutes prior to the start time.&nbsp\; &lt\; Read that again.</strong><br />\n						Registration deadline is 10:25AM on 4/23.<br />\n						<br />\n						Funded in part through a cooperative agreement with the US Small Business Administration.&nbsp\; Hosted by the University of Alabama.</p>\n						</td>\n					</tr>\n				</tbody>\n			</table>\n			</div>\n			<span style="font-style: italic\;">Click here to view the event</span></div>\n			</td>\n		</tr>\n		<tr>\n		</tr>\n	</tbody>\n</table>\n
LOCATION:Online Only
UID:e.1432.402847
SEQUENCE:3
DTSTAMP:20260419T220013Z
URL:http://business.etowahchamber.org/events/details/webinar-i-have-a-sba-ppp-funds-now-what-402847
END:VEVENT

END:VCALENDAR
