BEGIN:VCALENDAR
VERSION:2.0
PRODID:-//ChamberMaster//Event Calendar 2.0//EN
METHOD:PUBLISH
X-PUBLISHED-TTL:P3D
REFRESH-INTERVAL:P3D
CALSCALE:GREGORIAN
BEGIN:VEVENT
DTSTART:20200403T150000Z
DTEND:20200403T160000Z
X-MICROSOFT-CDO-ALLDAYEVENT:FALSE
SUMMARY:WEBINAR: Learn how to use free Canva to create great graphic design
DESCRIPTION:Join us for an open webinar to learn how to use the free version of Canva\, an online graphics design simplifying software! \n\nCanva is great to design flyers\, invitations\, presentations\, social media graphics and more!\n\n\n\nJoin program manager Will Mackey to learn some great tips and tricks to enhance your digital marketing aesthetics!\n\n\n\nPlease join my meeting from your computer\, tablet or smartphone.\n\nhttps://global.gotomeeting.com/join/705248229\n\n\n\nYou can also dial in using your phone.\n\nUnited States: +1 (224) 501-3412\n\n\n\nAccess Code: 705-248-229\n\n\n\nNew to GoToMeeting? Get the app now and be ready when your first meeting starts:\n\nhttps://global.gotomeeting.com/install/705248229
X-ALT-DESC;FMTTYPE=text/html:<p><span style="font-size:16px\;"><span style="font-family:arial\;">Join us for an open webinar to learn how to use the free version of Canva\, an online graphics design simplifying software!&nbsp\;<br />\nCanva is great to design flyers\, invitations\, presentations\, social media graphics and more!<br />\n<br />\nJoin program manager Will Mackey to learn some great tips and tricks to enhance your digital marketing aesthetics!</span></span><br />\n<br />\n<b style="color: rgb(38\, 41\, 46)\; font-family: lato-regular\, &quot\;Helvetica Neue&quot\;\, Helvetica\, Arial\, sans-serif\; font-size: 14px\;">Please join my meeting from your computer\, tablet or smartphone.</b><br style="color: rgb(38\, 41\, 46)\; font-family: lato-regular\, &quot\;Helvetica Neue&quot\;\, Helvetica\, Arial\, sans-serif\; font-size: 14px\;" />\n<strong><span class="inv-meeting-url" style="font-family: lato-regular\, &quot\;Helvetica Neue&quot\;\, Helvetica\, Arial\, sans-serif\; font-size: 14px\;"><a href="https://global.gotomeeting.com/join/705248229" target="_blank"><span style="color:#0000FF\;">https://global.gotomeeting.com/join/705248229</span></a></span></strong><br style="color: rgb(38\, 41\, 46)\; font-family: lato-regular\, &quot\;Helvetica Neue&quot\;\, Helvetica\, Arial\, sans-serif\; font-size: 14px\;" />\n<br style="color: rgb(38\, 41\, 46)\; font-family: lato-regular\, &quot\;Helvetica Neue&quot\;\, Helvetica\, Arial\, sans-serif\; font-size: 14px\;" />\n<b style="color: rgb(38\, 41\, 46)\; font-family: lato-regular\, &quot\;Helvetica Neue&quot\;\, Helvetica\, Arial\, sans-serif\; font-size: 14px\;">You can also dial in using your phone.</b><br style="color: rgb(38\, 41\, 46)\; font-family: lato-regular\, &quot\;Helvetica Neue&quot\;\, Helvetica\, Arial\, sans-serif\; font-size: 14px\;" />\n<span style="color: rgb(38\, 41\, 46)\; font-family: lato-regular\, &quot\;Helvetica Neue&quot\;\, Helvetica\, Arial\, sans-serif\; font-size: 14px\;">United States:&nbsp\;</span><span style="font-family: lato-regular\, &quot\;Helvetica Neue&quot\;\, Helvetica\, Arial\, sans-serif\; font-size: 14px\;"><strong><a href="tel:+12245013412\,\,705248229#"><span style="color:#0000FF\;">+1 (224) 501-3412</span></a></strong></span><br style="color: rgb(38\, 41\, 46)\; font-family: lato-regular\, &quot\;Helvetica Neue&quot\;\, Helvetica\, Arial\, sans-serif\; font-size: 14px\;" />\n<br style="color: rgb(38\, 41\, 46)\; font-family: lato-regular\, &quot\;Helvetica Neue&quot\;\, Helvetica\, Arial\, sans-serif\; font-size: 14px\;" />\n<span style="color: rgb(38\, 41\, 46)\; font-family: lato-regular\, &quot\;Helvetica Neue&quot\;\, Helvetica\, Arial\, sans-serif\; font-size: 14px\;"><b>Access Code:</b>&nbsp\;705-248-229</span><br style="color: rgb(38\, 41\, 46)\; font-family: lato-regular\, &quot\;Helvetica Neue&quot\;\, Helvetica\, Arial\, sans-serif\; font-size: 14px\;" />\n<br style="color: rgb(38\, 41\, 46)\; font-family: lato-regular\, &quot\;Helvetica Neue&quot\;\, Helvetica\, Arial\, sans-serif\; font-size: 14px\;" />\n<span style="color: rgb(38\, 41\, 46)\; font-family: lato-regular\, &quot\;Helvetica Neue&quot\;\, Helvetica\, Arial\, sans-serif\; font-size: 14px\;">New to GoToMeeting? Get the app now and be ready when your first meeting starts:</span><br />\n<strong><span style="font-family: lato-regular\, &quot\;Helvetica Neue&quot\;\, Helvetica\, Arial\, sans-serif\; font-size: 14px\;"><a href="https://global.gotomeeting.com/install/705248229" target="_blank"><span style="color:#0000FF\;">https://global.gotomeeting.com/install/705248229</span></a></span></strong><span> </span></p>\n
LOCATION:Online Only
UID:e.1432.402803
SEQUENCE:3
DTSTAMP:20260419T215852Z
URL:http://business.etowahchamber.org/events/details/webinar-learn-how-to-use-free-canva-to-create-great-graphic-design-402803
END:VEVENT

END:VCALENDAR
