BEGIN:VCALENDAR
VERSION:2.0
PRODID:-//ChamberMaster//Event Calendar 2.0//EN
METHOD:PUBLISH
X-PUBLISHED-TTL:P3D
REFRESH-INTERVAL:P3D
CALSCALE:GREGORIAN
BEGIN:VEVENT
DTSTART:20200401T210000Z
DTEND:20200401T220000Z
X-MICROSOFT-CDO-ALLDAYEVENT:FALSE
SUMMARY:WEBINAR: New Disaster Loan and PPP Application Webinars- choose one of 3
DESCRIPTION:New Disaster Loan + PPP Application Webinars\n					\n				\n			\n			\n		\n	\n\n\n \n \n\n\n	\n		\n			\n			\n				\n					\n						 \n\n						The Alabama SBDC is hosting three webinars this week regarding the updated process for applying for the SBA Economic Injury Disaster Loan\, the $10k forgivable advance\, and the new Paycheck Protection Program (PPP). Each webinar is limited to the first 1000 participants.\n\n						\n\n						CLICK ONE DATE OF YOUR CHOICE TO REGISTER\n\n						\n							Wednesday\, April 1st at 4pm\n							Thursday\, April 2nd at 4pm\n							Friday\, April 3rd at 4pm
X-ALT-DESC;FMTTYPE=text/html:<table align="center" border="0" cellpadding="0" cellspacing="0" style="width: 446.4px\;" width="100%">\n	<tbody>\n		<tr>\n			<td style="width: 444.4px\; padding: 0in\; vertical-align: top\;">\n			<table border="0" cellpadding="0" cellspacing="0" style="width: 442.4px\;" width="100%">\n				<tbody>\n					<tr>\n						<td style="padding: 7.5pt 15pt\; vertical-align: top\;">&nbsp\;<br />\n						<span style="color: rgb(113\, 122\, 128)\;"><span style="font-family: arial\, sans-serif\;"><span style="font-size: 18pt\;">New Disaster Loan + PPP Application Webinars</span></span></span></td>\n					</tr>\n				</tbody>\n			</table>\n			</td>\n		</tr>\n	</tbody>\n</table>\n\n<div style="clear: both\;">&nbsp\;</div>\n&nbsp\;\n\n<table align="center" border="0" cellpadding="0" cellspacing="0" data-mce-style="min-width: 100%\;" style="width: 446.4px\; min-width: 100%\;" width="100%">\n	<tbody>\n		<tr>\n			<td data-mce-style="font-family: Arial\, Verdana\, Helvetica\, sans-serif\; font-size: 12px\; color: #403f42\; text-align: left\; display: block\; word-wrap: break-word\; line-height: 1.2\; padding: 10px 20px\;" style="width: 444.4px\; padding: 0in\; overflow-wrap: break-word\; vertical-align: top\;">\n			<table border="0" cellpadding="0" cellspacing="0" data-mce-style="min-width: 100%\;" style="width: 442.4px\; min-width: 100%\;" width="100%">\n				<tbody>\n					<tr>\n						<td style="padding: 7.5pt 15pt\; vertical-align: top\;">&nbsp\;<br />\n						<span style="color: rgb(64\, 63\, 66)\;"><span style="font-family: arial\, sans-serif\;"><span style="font-size: 9pt\;"><span data-mce-style="font-size: 12px\;">The Alabama SBDC is hosting three webinars this week regarding the updated process for applying for the SBA Economic Injury Disaster Loan\, the $10k forgivable advance\, and the new Paycheck Protection Program (PPP).&nbsp\;<u><strong>Each webinar is limited to the first 1000 participants.<br />\n						<br />\n						CLICK ONE DATE OF YOUR CHOICE TO REGISTER</strong></u></span></span></span></span>\n\n						<ul>\n							<li data-mce-style="font-size: 12px\;" style="color: rgb(64\, 63\, 66)\;"><span id="OBJ_PREFIX_DWT74_com_zimbra_url"><span style="font-family: arial\, sans-serif\;"><span style="font-size: 9pt\;"><a data-mce-href="http://r20.rs6.net/tn.jsp?f=001ZEdzWXXFG1dNF6NOkKEKLDbKuqSEr1Rw-bNnncpROgQdph1hGHjsaKgp_2J5_vBQv6Iky7Be_YHOtM0LUJB-AklEOm45_J74FTpKW-90EU8z9aDaGscL7YQwdHZM-uctKlwCJwLi4YssFzBdMFY9YRn9h0_noZcF5SyHSffAqyg=&amp\;c=r7E4aYWqPn8Y-p2NcPgfcBbxYwllXfc3ZEnreRvjjuMpJWemebzdkg==&amp\;ch=ftYcbmxZ-usswnSk4gvqHUdhEuRAr1eF-0H54QHbh1VjqPXrMVFhvA==" data-mce-style="font-size: 12px\; color: #48a199\; font-weight: normal\; font-style: normal\; text-decoration: underline\;" href="http://r20.rs6.net/tn.jsp?f=001ZEdzWXXFG1dNF6NOkKEKLDbKuqSEr1Rw-bNnncpROgQdph1hGHjsaKgp_2J5_vBQv6Iky7Be_YHOtM0LUJB-AklEOm45_J74FTpKW-90EU8z9aDaGscL7YQwdHZM-uctKlwCJwLi4YssFzBdMFY9YRn9h0_noZcF5SyHSffAqyg=&amp\;c=r7E4aYWqPn8Y-p2NcPgfcBbxYwllXfc3ZEnreRvjjuMpJWemebzdkg==&amp\;ch=ftYcbmxZ-usswnSk4gvqHUdhEuRAr1eF-0H54QHbh1VjqPXrMVFhvA==" target="_blank"><span style="color: rgb(72\, 161\, 153)\;">Wednesday\, April 1st at 4pm</span></a></span></span></span></li>\n							<li data-mce-style="font-size: 12px\;" style="color: rgb(64\, 63\, 66)\;"><span id="OBJ_PREFIX_DWT75_com_zimbra_url"><span style="font-family: arial\, sans-serif\;"><span style="font-size: 9pt\;"><a data-mce-href="http://r20.rs6.net/tn.jsp?f=001ZEdzWXXFG1dNF6NOkKEKLDbKuqSEr1Rw-bNnncpROgQdph1hGHjsaKgp_2J5_vBQGdbQ6RbjtiRqsjaaFvDs8_VOPeLP7I_g9pnFrl-KjRd2GKUl_p-IilVVzi1hmpArIP_gdw2srEHKJ2yizUkA14jn0g8t1rHBlQhfhVk7Q7Q=&amp\;c=r7E4aYWqPn8Y-p2NcPgfcBbxYwllXfc3ZEnreRvjjuMpJWemebzdkg==&amp\;ch=ftYcbmxZ-usswnSk4gvqHUdhEuRAr1eF-0H54QHbh1VjqPXrMVFhvA==" data-mce-style="font-size: 12px\; color: #48a199\; font-weight: normal\; font-style: normal\; text-decoration: underline\;" href="http://r20.rs6.net/tn.jsp?f=001ZEdzWXXFG1dNF6NOkKEKLDbKuqSEr1Rw-bNnncpROgQdph1hGHjsaKgp_2J5_vBQGdbQ6RbjtiRqsjaaFvDs8_VOPeLP7I_g9pnFrl-KjRd2GKUl_p-IilVVzi1hmpArIP_gdw2srEHKJ2yizUkA14jn0g8t1rHBlQhfhVk7Q7Q=&amp\;c=r7E4aYWqPn8Y-p2NcPgfcBbxYwllXfc3ZEnreRvjjuMpJWemebzdkg==&amp\;ch=ftYcbmxZ-usswnSk4gvqHUdhEuRAr1eF-0H54QHbh1VjqPXrMVFhvA==" target="_blank"><span style="color: rgb(72\, 161\, 153)\;">Thursday\, April 2nd at 4pm</span></a></span></span></span></li>\n							<li data-mce-style="font-size: 12px\;" style="color: rgb(64\, 63\, 66)\;"><span id="OBJ_PREFIX_DWT76_com_zimbra_url"><span style="font-family: arial\, sans-serif\;"><span style="font-size: 9pt\;"><a data-mce-href="http://r20.rs6.net/tn.jsp?f=001ZEdzWXXFG1dNF6NOkKEKLDbKuqSEr1Rw-bNnncpROgQdph1hGHjsaKgp_2J5_vBQcV6vpjH56omTgKiVFd91p6pw6vI3zu_jvJGqIHg_tImDKVasvoj40rBaZvYGz3p_JtZwjbtMjtmjLl2tJ2pPB5xWkAEGA9rSx5a0muqpZnA=&amp\;c=r7E4aYWqPn8Y-p2NcPgfcBbxYwllXfc3ZEnreRvjjuMpJWemebzdkg==&amp\;ch=ftYcbmxZ-usswnSk4gvqHUdhEuRAr1eF-0H54QHbh1VjqPXrMVFhvA==" data-mce-style="font-size: 12px\; color: #48a199\; font-weight: normal\; font-style: normal\; text-decoration: underline\;" href="http://r20.rs6.net/tn.jsp?f=001ZEdzWXXFG1dNF6NOkKEKLDbKuqSEr1Rw-bNnncpROgQdph1hGHjsaKgp_2J5_vBQcV6vpjH56omTgKiVFd91p6pw6vI3zu_jvJGqIHg_tImDKVasvoj40rBaZvYGz3p_JtZwjbtMjtmjLl2tJ2pPB5xWkAEGA9rSx5a0muqpZnA=&amp\;c=r7E4aYWqPn8Y-p2NcPgfcBbxYwllXfc3ZEnreRvjjuMpJWemebzdkg==&amp\;ch=ftYcbmxZ-usswnSk4gvqHUdhEuRAr1eF-0H54QHbh1VjqPXrMVFhvA==" target="_blank"><span style="color: rgb(72\, 161\, 153)\;">Friday\, April 3rd at 4pm</span></a></span></span></span></li>\n						</ul>\n						</td>\n					</tr>\n				</tbody>\n			</table>\n			</td>\n		</tr>\n	</tbody>\n</table>\n\n<div style="clear: both\;">&nbsp\;</div>\n\n<div style="clear:both\;">&nbsp\;</div>\n
LOCATION:Online only
UID:e.1432.402812
SEQUENCE:3
DTSTAMP:20260419T220216Z
URL:http://business.etowahchamber.org/events/details/webinar-new-disaster-loan-and-ppp-application-webinars-choose-one-of-3-402812
END:VEVENT

END:VCALENDAR
