BEGIN:VCALENDAR
VERSION:2.0
PRODID:-//ChamberMaster//Event Calendar 2.0//EN
METHOD:PUBLISH
X-PUBLISHED-TTL:P3D
REFRESH-INTERVAL:P3D
CALSCALE:GREGORIAN
BEGIN:VEVENT
DTSTART:20200325T190000Z
DTEND:20200325T200000Z
X-MICROSOFT-CDO-ALLDAYEVENT:FALSE
SUMMARY:WEBINAR: Small Business Update - COVID-19 Response
DESCRIPTION:Small Business Update\n\nResources and Suggestions for the Road Ahead\n\n\n\nYou are invited to join a webinar update designed to update small businesses on issues of specific interest as we work through this season of social distancing as a result of the COVID-19 pandemic.\n\n\n\nThis webinar will be recorded and posted to our library of webinars and other assistance information on www.etowahchamber.org/covid19 for those that can not attend the live event. \n\n\n\n\n\n\n\nSmall Business Update\n\nWed\, Mar 25\, 2020 2-3 pm (CDT)\n\n\n\nPlease join my meeting from your computer\, tablet or smartphone.  \n\nhttps://global.gotomeeting.com/join/691464573 \n\n\n\nYou can also dial in using your phone. \n\nUnited States: +1 (872) 240-3212 \n\n\n\nAccess Code: 691-464-573 \n\n\n\nNew to GoToMeeting? Get the app now and be ready when your first meeting starts:\n\nhttps://global.gotomeeting.com/install/691464573
X-ALT-DESC;FMTTYPE=text/html:Small Business Update<br />\nResources and Suggestions for the Road Ahead<br />\n<br />\nYou are invited to join a webinar update designed to update small businesses on issues of specific interest as we work through this season of social distancing as a result of the COVID-19 pandemic.<br />\n<br />\nThis webinar will be recorded and posted to our library of webinars and other assistance information on www.etowahchamber.org/covid19 for those that can not attend the live event.&nbsp\;<br />\n<br />\n<br />\n<br />\n<span><span class="inv-subject">Small Business Update</span><br />\n<span class="inv-date">Wed\, Mar 25\, 2020 2-3 pm (CDT)</span><br />\n<br />\n<b><span>Please join my meeting from your computer\, tablet or smartphone. </span> </b><br />\n<span class="inv-meeting-url"><a href="https://global.gotomeeting.com/join/691464573" target="_blank">https://global.gotomeeting.com/join/691464573</a> </span><br />\n<br />\n<b><span>You can also dial in using your phone.</span> </b><br />\n<span>United States: <a href="tel:+18722403212\,\,691464573#">+1 (872) 240-3212</a> </span><br />\n<br />\n<span><b>Access Code:</b> <span>691-464-573</span> </span><br />\n<br />\n<span>New to GoToMeeting? Get the app now and be ready when your first meeting starts:<br />\n<a href="https://global.gotomeeting.com/install/691464573" target="_blank">https://global.gotomeeting.com/install/691464573</a> </span> </span><br />\n&nbsp\;
LOCATION:online only
UID:e.1432.402799
SEQUENCE:3
DTSTAMP:20260419T233257Z
URL:http://business.etowahchamber.org/events/details/webinar-small-business-update-covid-19-response-402799
END:VEVENT

END:VCALENDAR
